BEGIN:VCALENDAR
VERSION:2.0
PRODID:-//Spółdzielnia Mieszkaniowa Osiedle Młodych - ECPv5.16.4//NONSGML v1.0//EN
CALSCALE:GREGORIAN
METHOD:PUBLISH
X-WR-CALNAME:Spółdzielnia Mieszkaniowa Osiedle Młodych
X-ORIGINAL-URL:https://osiedlemlodych.pl
X-WR-CALDESC:Wydarzenia dla Spółdzielnia Mieszkaniowa Osiedle Młodych
BEGIN:VTIMEZONE
TZID:Europe/Warsaw
BEGIN:DAYLIGHT
TZOFFSETFROM:+0100
TZOFFSETTO:+0200
TZNAME:CEST
DTSTART:20250330T010000
END:DAYLIGHT
BEGIN:STANDARD
TZOFFSETFROM:+0200
TZOFFSETTO:+0100
TZNAME:CET
DTSTART:20251026T010000
END:STANDARD
END:VTIMEZONE
BEGIN:VEVENT
DTSTART;TZID=Europe/Warsaw:20250112T180000
DTEND;TZID=Europe/Warsaw:20250112T193000
DTSTAMP:20260421T192546
CREATED:20241217T222539Z
LAST-MODIFIED:20241225T122659Z
UID:49260-1736704800-1736710200@osiedlemlodych.pl
SUMMARY:KONCERT NOWOROCZNY
DESCRIPTION:Powitajmy razem Nowy Rok! \n  \nRazem z mieszkańcami pragniemy wspólnie dzielić radość i powitać Nowy 2025 Rok. A zrobimy to podczas Noworocznej Gali Operetkowej organizowanej przez Zarząd Spółdzielni Mieszkaniowej „Osiedle Młodych” w Poznaniu i Ratajskie Domy Kultury. \n  \nKoncert Noworoczny odbędzie się w niedzielę\, 12 stycznia 2025 r. o godz. 18:00 w Domu Kultury „Orle Gniazdo”. Na scenie wystąpią wybitni artyści: Zuzanna Zięta\, Sylwia Strugińska-Wochowska\, Mirosław Niewiadomski i Mariusz Adam Ruta. \n  \nPodczas koncertu usłyszymy najpiękniejsze arie operowe i operetkowe oraz złote przeboje amerykańskiej muzyki rozrywkowej z lat 60. i 70. XX wieku. \n  \nBilety w cenie 45\,00 zł. będzie można kupić od 2 stycznia 2025 r. w serwisie Bilety 24 oraz osobiście od pon. do pt. w godz. 16.00 – 20.00 u organizatorów: \n– Dom Kultury „Na Skarpie” / os. Piastowskie 104 / tel. 61 877 05 51 \n– Dom Kultury „Jagiellonka” / os. Jagiellońskie 120 / tel. 61 877 51 64 \n– Klub „Cybinka” / ul. Warszawska 93/95 / tel. 61 879 47 15 \n– Dom Kultury „Jędruś” / os. Armii Krajowej 101 / tel. 61 877 01 51 \n– Dom Kultury „Orle Gniazdo” / os. Lecha 43 / tel. 61 877 78 42 \n– Dom Kultury „Jubilat” / os. Tysiąclecia 30 / tel. 61 876 08 40 \n– Dom Kultury „Polan Sto” / os. Polan 100 / tel. 61 879 71 51 \n– Dom Kultury „Na Pięterku”/ os. Orła Białego 5 / tel. 61 879 63 11 \n– Placówki Kulturalne „Na Rusa” /  os. Rusa 67 / tel. 695 151 659 \n  \nSerdecznie zapraszamy do wspólnego powitania Nowego 2025 Roku! \nSprzedaż biletów pod linkiem zostanie uruchomiona 2 stycznia o godzinie 15:00 : http://www.bilety24/galaoperetkowa \n  \n  \n  \n 
URL:https://osiedlemlodych.pl/wydarzenia/koncert-noworoczny-5/
LOCATION:Dom Kultury „Orle Gniazdo”\, os. Lecha 43\, Poznań\, Wielkopolskie\, 61-294\, Polska
CATEGORIES:Jagiellonka,Jędruś,Jubilat,Klub Cybinka,Na pięterku,Na Skarpie,Orle Gniazdo,Polan Sto,Placówki Kulturalne "Na Rusa"
ATTACH;FMTTYPE=image/jpeg:https://osiedlemlodych.pl/wp-content/uploads/2024/12/pexels-cottonbro-3171742.jpg
END:VEVENT
END:VCALENDAR