BEGIN:VCALENDAR
VERSION:2.0
PRODID:-//Spółdzielnia Mieszkaniowa Osiedle Młodych - ECPv5.16.4//NONSGML v1.0//EN
CALSCALE:GREGORIAN
METHOD:PUBLISH
X-WR-CALNAME:Spółdzielnia Mieszkaniowa Osiedle Młodych
X-ORIGINAL-URL:https://osiedlemlodych.pl
X-WR-CALDESC:Wydarzenia dla Spółdzielnia Mieszkaniowa Osiedle Młodych
BEGIN:VTIMEZONE
TZID:Europe/Warsaw
BEGIN:DAYLIGHT
TZOFFSETFROM:+0100
TZOFFSETTO:+0200
TZNAME:CEST
DTSTART:20260329T010000
END:DAYLIGHT
BEGIN:STANDARD
TZOFFSETFROM:+0200
TZOFFSETTO:+0100
TZNAME:CET
DTSTART:20261025T010000
END:STANDARD
END:VTIMEZONE
BEGIN:VEVENT
DTSTART;TZID=Europe/Warsaw:20260118T180000
DTEND;TZID=Europe/Warsaw:20260118T193000
DTSTAMP:20260422T020332
CREATED:20251218T151440Z
LAST-MODIFIED:20251218T152135Z
UID:54351-1768759200-1768764600@osiedlemlodych.pl
SUMMARY:KONCERT NOWOROCZNY
DESCRIPTION:Koncerty Noworoczne to pełne blasku\, lekkości i elegancji muzyczne powitania Nowego Roku tradycyjnie organizowane dla Państwa przez Zarząd Spółdzielni Mieszkaniowej „Osiedle Młodych” w Poznaniu oraz Ratajskie Domy Kultury. \nW tym roku w Domu Kultury „Orle Gniazdo” wystąpi Śpiewająca Rodzina Kaczmarków\, która w swoim bogatym repertuarze posiada wiele znanych arii i duetów z opery i operetki\, piosenki z musicali\, a także światowe i polskie standardy muzyki estradowej i przeboje muzyki filmowej. Ich aranżacje są pełne energii\, a jednocześnie subtelne\, pięknie wpisując się w uroczysty charakter wydarzenia. \nKoncert Noworoczny to idealny sposób\, by rozpocząć rok z uśmiechem\, muzyczną energią i poczuciem\, że przed nami czas pełen dobrych emocji i nowych możliwości. \nPo występie serdecznie zapraszamy na noworoczny poczęstunek i uroczysty toast! To doskonała okazja do złożenia sobie życzeń i integracji. \n  \nBilety w cenie 60\,00 zł do nabycia od 07.01.2026 r. \nod poniedziałku do piątku w godz. 16:00 – 20:00 w Ratajskich Domach Kultury \nlub w serwisie Bilety 24 \n https://www.bilety24.pl/koncert/1515-koncert-noworoczny-144900?id=858179  \n 
URL:https://osiedlemlodych.pl/wydarzenia/koncert-noworoczny-6/
LOCATION:DK „Orle Gniazdo”\, os. Lecha 43\, Poznań
CATEGORIES:Jagiellonka,Jędruś,Jubilat,Klub Cybinka,Na pięterku,Na Skarpie,Orle Gniazdo,Polan Sto,Placówki Kulturalne "Na Rusa"
ATTACH;FMTTYPE=image/png:https://osiedlemlodych.pl/wp-content/uploads/2025/12/projekt-bez-nazwy9.png
END:VEVENT
END:VCALENDAR