BEGIN:VCALENDAR
VERSION:2.0
PRODID:-//Spółdzielnia Mieszkaniowa Osiedle Młodych - ECPv5.16.4//NONSGML v1.0//EN
CALSCALE:GREGORIAN
METHOD:PUBLISH
X-WR-CALNAME:Spółdzielnia Mieszkaniowa Osiedle Młodych
X-ORIGINAL-URL:https://osiedlemlodych.pl
X-WR-CALDESC:Wydarzenia dla Spółdzielnia Mieszkaniowa Osiedle Młodych
BEGIN:VTIMEZONE
TZID:Europe/Warsaw
BEGIN:DAYLIGHT
TZOFFSETFROM:+0100
TZOFFSETTO:+0200
TZNAME:CEST
DTSTART:20180325T010000
END:DAYLIGHT
BEGIN:STANDARD
TZOFFSETFROM:+0200
TZOFFSETTO:+0100
TZNAME:CET
DTSTART:20181028T010000
END:STANDARD
END:VTIMEZONE
BEGIN:VEVENT
DTSTART;TZID=Europe/Warsaw:20181213T170000
DTEND;TZID=Europe/Warsaw:20181213T180000
DTSTAMP:20260425T031646
CREATED:20181115T165602Z
LAST-MODIFIED:20181115T165602Z
UID:19195-1544720400-1544724000@osiedlemlodych.pl
SUMMARY:Koncert Piosenki Zaangażowanej
DESCRIPTION:W rocznicę wprowadzenia stanu wojennego zapraszamy na koncert Piosenki Zaangażowanej – wydarzenia z blisko 25-letnią historią. Jego pomysłodawcą jest Leopold Twardowski. Pierwsze koncerty odbywały się w Domu Kultury „Na Skarpie” już w połowie lat 90-tych XX wieku. W ich ramach zawsze prezentowane były utwory napisane głównie w czasach komunizmu\, przypominające o jego najważniejszych tragicznych wydarzeniach\, opisujące dążenie Polaków do prawdziwego odzyskania niepodległości czy w groteskowy sposób opisujące absurdy codzienności tamtego okresu.\nPodczas kolejnej edycji Piosenki Zaangażowanej będzie można ponownie usłyszeć kompozycje m. in. Przemysława Gintrowskiego\, Zbigniewa Łapińskiego\, Jacka Kaczmarskiego oraz Jana Pietrzaka w autorskich aranżacjach Leopolda Twardowskiego – poznańskiego wokalisty\, gitarzysty\, aranżera i kompozytora.
URL:https://osiedlemlodych.pl/wydarzenia/koncert-piosenki-zaangazowanej-3/
LOCATION:Dom Kultury „Na Skarpie”\, os. Piastowskie 104\, Poznań\, województwo wielkopolskie\, 61-164\, Polska
CATEGORIES:Na Skarpie
ATTACH;FMTTYPE=image/jpeg:https://osiedlemlodych.pl/wp-content/uploads/2018/11/dsc08935.jpg
ORGANIZER;CN="Dom%20Kultury%20%22Na%20Skarpie%22":MAILTO:naskarpie@osiedlemlodych.pl
END:VEVENT
END:VCALENDAR