BEGIN:VCALENDAR
VERSION:2.0
PRODID:-//Spółdzielnia Mieszkaniowa Osiedle Młodych - ECPv5.16.4//NONSGML v1.0//EN
CALSCALE:GREGORIAN
METHOD:PUBLISH
X-WR-CALNAME:Spółdzielnia Mieszkaniowa Osiedle Młodych
X-ORIGINAL-URL:https://osiedlemlodych.pl
X-WR-CALDESC:Wydarzenia dla Spółdzielnia Mieszkaniowa Osiedle Młodych
BEGIN:VTIMEZONE
TZID:Europe/Warsaw
BEGIN:DAYLIGHT
TZOFFSETFROM:+0100
TZOFFSETTO:+0200
TZNAME:CEST
DTSTART:20250330T010000
END:DAYLIGHT
BEGIN:STANDARD
TZOFFSETFROM:+0200
TZOFFSETTO:+0100
TZNAME:CET
DTSTART:20251026T010000
END:STANDARD
END:VTIMEZONE
BEGIN:VEVENT
DTSTART;TZID=Europe/Warsaw:20251212T180000
DTEND;TZID=Europe/Warsaw:20251212T193000
DTSTAMP:20260421T224052
CREATED:20251119T183348Z
LAST-MODIFIED:20251203T174400Z
UID:53884-1765562400-1765567800@osiedlemlodych.pl
SUMMARY:Koncert Piosenki Zaangażowanej
DESCRIPTION:Podczas muzycznego widowiska usłyszymy kompozycje m. in. Przemysława Gintrowskiego\, Zbigniewa Łapińskiego\, Jacka Kaczmarskiego oraz Jana Pietrzaka w autorskich aranżacjach Leopolda Twardowskiego – poznańskiego wokalisty\, gitarzysty\, aranżera i kompozytora.\nWystąpią:\nPiotr Kałużny – fortepian\nBartosz Kucz – bas\nMirosław Kamiński – perkusja\nLeopold Twardowski – śpiew\, gitara\nPrzed nami wieczór z muzyką\, która nie tylko brzmi – ona porusza\, wzrusza i zmusza do refleksji.Zapraszamy na koncert dla tych\, którzy w muzyce szukają czegoś więcej niż melodii. \nKoszt: 40 zł \nRezerwacja biletów: 61 877 05 51 \nnaskarpie@osiedlemlodych.pl
URL:https://osiedlemlodych.pl/wydarzenia/koncert-piosenki-zaangazowanej-5/
LOCATION:Dom Kultury „Na Skarpie”\, os. Piastowskie 104\, Poznań\, województwo wielkopolskie\, 61-164\, Polska
CATEGORIES:Na Skarpie
ATTACH;FMTTYPE=image/jpeg:https://osiedlemlodych.pl/wp-content/uploads/2025/11/poldek-3.jpg
END:VEVENT
END:VCALENDAR