BEGIN:VCALENDAR
VERSION:2.0
PRODID:-//Spółdzielnia Mieszkaniowa Osiedle Młodych - ECPv5.16.4//NONSGML v1.0//EN
CALSCALE:GREGORIAN
METHOD:PUBLISH
X-WR-CALNAME:Spółdzielnia Mieszkaniowa Osiedle Młodych
X-ORIGINAL-URL:https://osiedlemlodych.pl
X-WR-CALDESC:Wydarzenia dla Spółdzielnia Mieszkaniowa Osiedle Młodych
BEGIN:VTIMEZONE
TZID:Europe/Warsaw
BEGIN:DAYLIGHT
TZOFFSETFROM:+0100
TZOFFSETTO:+0200
TZNAME:CEST
DTSTART:20250330T010000
END:DAYLIGHT
BEGIN:STANDARD
TZOFFSETFROM:+0200
TZOFFSETTO:+0100
TZNAME:CET
DTSTART:20251026T010000
END:STANDARD
END:VTIMEZONE
BEGIN:VEVENT
DTSTART;TZID=Europe/Warsaw:20251109T180000
DTEND;TZID=Europe/Warsaw:20251109T193000
DTSTAMP:20260421T224047
CREATED:20251021T092244Z
LAST-MODIFIED:20251022T175523Z
UID:53542-1762711200-1762716600@osiedlemlodych.pl
SUMMARY:Koncert "Zaduszki Jazzowe"
DESCRIPTION:Już 9 listopada o godzinie 18:00 Dom Kultury „Na Skarpie” ponownie wypełni się dźwiękami jazzu. \nCzas początku listopada to każdego roku tęskne wspomnienia bliskich\, którzy wydają się być już nieodwołalnie dalecy…\nZachowujemy w pamięci obrazy\, przeżycia i emocje.\nTakże dźwięki bywają nośnikami wspomnień.\nI to właśnie nimi – dźwiękami wydobywającymi się z instrumentów – pragniemy ponownie wspomnieć artystów\, którzy w muzyce zapisali się swoją wrażliwością. \nWystąpią:\n🎹 Katarzyna Stroińska-Sierant – fortepian\n🎷 Jarosław Wachowiak – saksofony\n🎻 Szymon Wieczorkiewicz – kontrabas\n🥁 Mirosław Kamiński – perkusja \n📅 Czas i miejsce:\n9 listopada 2025 (niedziela)\, godz. 18:00\nDom Kultury Na Skarpie\nos. Piastowskie 104\, Poznań \n🎟 Bilety:\nDostępne na miejscu przed koncertem\n(prosimy o wcześniejszą rezerwację miejsc)
URL:https://osiedlemlodych.pl/wydarzenia/koncert-zaduszki-jazzowe/
LOCATION:Dom Kultury „Na Skarpie”\, os. Piastowskie 104\, Poznań\, województwo wielkopolskie\, 61-164\, Polska
CATEGORIES:Na Skarpie
ATTACH;FMTTYPE=image/png:https://osiedlemlodych.pl/wp-content/uploads/2025/10/bezowe-zielone-proste-gryzmoly-dom-i-styl-zycia-wydarzenia-na-zoomie-wirtualne-tlo.png
END:VEVENT
END:VCALENDAR