BEGIN:VCALENDAR
VERSION:2.0
PRODID:-//Spółdzielnia Mieszkaniowa Osiedle Młodych - ECPv5.16.4//NONSGML v1.0//EN
CALSCALE:GREGORIAN
METHOD:PUBLISH
X-WR-CALNAME:Spółdzielnia Mieszkaniowa Osiedle Młodych
X-ORIGINAL-URL:https://osiedlemlodych.pl
X-WR-CALDESC:Wydarzenia dla Spółdzielnia Mieszkaniowa Osiedle Młodych
BEGIN:VTIMEZONE
TZID:Europe/Warsaw
BEGIN:DAYLIGHT
TZOFFSETFROM:+0100
TZOFFSETTO:+0200
TZNAME:CEST
DTSTART:20250330T010000
END:DAYLIGHT
BEGIN:STANDARD
TZOFFSETFROM:+0200
TZOFFSETTO:+0100
TZNAME:CET
DTSTART:20251026T010000
END:STANDARD
END:VTIMEZONE
BEGIN:VEVENT
DTSTART;TZID=Europe/Warsaw:20251207T170000
DTEND;TZID=Europe/Warsaw:20251207T183000
DTSTAMP:20260422T020531
CREATED:20251117T133922Z
LAST-MODIFIED:20251117T133922Z
UID:53831-1765126800-1765132200@osiedlemlodych.pl
SUMMARY:Koncert "Zajaśniała Gwiozdecka" - Góralskie Kolędowanie
DESCRIPTION:Już 7 grudnia zapraszamy Państwa na magiczny wieczór góralskiego kolędowania do Domu Kultury „Orle Gniazdo”. Duet Kamil&Natalia wprowadzą nas w świąteczny nastrój koncertem „Zajaśniała Gwiozdecka”. \nWyjątkowości wieczoru dodaje fakt\, iż jest to koncert z okazji 45-lecia DK „Orle Gniazdo” oraz 35-lecia DK „Na Pięterku”. Zachęcamy Państwa do wspólnego świętowania i kolędowania! \nBilety w cenie 25 zł dostępne w DK „Orle Gniazdo”\, w DK „Na Pięterku” oraz na stronie Bilety24.pl – Kliknij tutaj \nMiejsce wydarzenia: DK „Orle Gniazdo” na os. Lecha 43 w Poznaniu
URL:https://osiedlemlodych.pl/wydarzenia/koncert-zajasniala-gwiozdecka-goralskie-koledowanie/
LOCATION:Dom Kultury „Orle Gniazdo”\, os. Lecha 43\, os. Lecha 43\, Poznań
CATEGORIES:Na pięterku,Orle Gniazdo
ATTACH;FMTTYPE=image/png:https://osiedlemlodych.pl/wp-content/uploads/2025/11/erf-kopia.png
END:VEVENT
END:VCALENDAR