BEGIN:VCALENDAR
VERSION:2.0
PRODID:-//Spółdzielnia Mieszkaniowa Osiedle Młodych - ECPv5.16.4//NONSGML v1.0//EN
CALSCALE:GREGORIAN
METHOD:PUBLISH
X-WR-CALNAME:Spółdzielnia Mieszkaniowa Osiedle Młodych
X-ORIGINAL-URL:https://osiedlemlodych.pl
X-WR-CALDESC:Wydarzenia dla Spółdzielnia Mieszkaniowa Osiedle Młodych
BEGIN:VTIMEZONE
TZID:Europe/Warsaw
BEGIN:DAYLIGHT
TZOFFSETFROM:+0100
TZOFFSETTO:+0200
TZNAME:CEST
DTSTART:20220327T010000
END:DAYLIGHT
BEGIN:STANDARD
TZOFFSETFROM:+0200
TZOFFSETTO:+0100
TZNAME:CET
DTSTART:20221030T010000
END:STANDARD
END:VTIMEZONE
BEGIN:VEVENT
DTSTART;TZID=Europe/Warsaw:20221209T170000
DTEND;TZID=Europe/Warsaw:20221209T180000
DTSTAMP:20260421T164058
CREATED:20221108T184300Z
LAST-MODIFIED:20221109T162906Z
UID:37142-1670605200-1670608800@osiedlemlodych.pl
SUMMARY:Konkurs plastyczny "Moja kartka Bożonarodzeniowa"
DESCRIPTION:Konkurs przeznaczony jest dla dzieci przedszkolnych\, szkół podstawowych oraz uczestniczących w zajęciach organizowanych w domach kultury i będzie rozstrzygany w następujących kategoriach: \nI Kategoria Dzieci Przedszkolne do 6 lat. \nII Kategoria Dzieci ze Szkół Podstawowych 6-9 lat. \nIII Kategoria Dzieci ze Szkół Podstawowych 10-12 lat. \nPrace konkursowe\, wykonane w dowolnej technice i dowolnym formacie\, dostarczać należy  do biura Domu Kultury „Jagiellonka”\, codziennie w godzinach 14.00 – 19.00\, do 6 grudnia 2022. \nWernisaż prac odbędzie się 9 grudnia 2022 roku\, o godz. 17.00.\n \n! Podpisaną pracę konkursową (Imię\, wiek dziecka\, ewentualnie grupa\, nr przedszkola/ szkoły oraz telefon kontaktowy) dostarczamy wraz z wypełnioną zgodą na przetwarzanie danych osobowych. Niezbędne pliki można pobrać poniżej. \nRegulamin konkursu\nZgoda na przetwarzanie danych osobowych
URL:https://osiedlemlodych.pl/wydarzenia/konkurs-plastyczny-moja-kartka-bozonarodzeniowa/
LOCATION:Dom Kultury „Jagiellonka”
CATEGORIES:Jagiellonka
ATTACH;FMTTYPE=image/png:https://osiedlemlodych.pl/wp-content/uploads/2022/11/kopia-szablon-dk-jagiellonka-36.png
END:VEVENT
END:VCALENDAR