BEGIN:VCALENDAR
VERSION:2.0
PRODID:-//Spółdzielnia Mieszkaniowa Osiedle Młodych - ECPv5.16.4//NONSGML v1.0//EN
CALSCALE:GREGORIAN
METHOD:PUBLISH
X-WR-CALNAME:Spółdzielnia Mieszkaniowa Osiedle Młodych
X-ORIGINAL-URL:https://osiedlemlodych.pl
X-WR-CALDESC:Wydarzenia dla Spółdzielnia Mieszkaniowa Osiedle Młodych
BEGIN:VTIMEZONE
TZID:Europe/Warsaw
BEGIN:DAYLIGHT
TZOFFSETFROM:+0100
TZOFFSETTO:+0200
TZNAME:CEST
DTSTART:20220327T010000
END:DAYLIGHT
BEGIN:STANDARD
TZOFFSETFROM:+0200
TZOFFSETTO:+0100
TZNAME:CET
DTSTART:20221030T010000
END:STANDARD
END:VTIMEZONE
BEGIN:VEVENT
DTSTART;TZID=Europe/Warsaw:20221216T173000
DTEND;TZID=Europe/Warsaw:20221216T190000
DTSTAMP:20260422T135447
CREATED:20221207T153829Z
LAST-MODIFIED:20221207T153829Z
UID:37745-1671211800-1671217200@osiedlemlodych.pl
SUMMARY:KREATYWKI - RODZINNE WARSZTATY ŚWIĄTECZNE
DESCRIPTION:Zapraszamy całe rodziny na świąteczne warsztaty artystyczne. Będziemy wykonywać zimowe lampiony ze słoi.
URL:https://osiedlemlodych.pl/wydarzenia/kreatywki-rodzinne-warsztaty-swiateczne/
LOCATION:Dom Kultury „Jubilat”\, os. Tysiąclecia 30\, Poznań\, wielkopolskie\, 61-255\, Polska
CATEGORIES:Jubilat
ATTACH;FMTTYPE=image/jpeg:https://osiedlemlodych.pl/wp-content/uploads/2022/12/snow-gaee05ebab-1280.jpg
END:VEVENT
END:VCALENDAR