BEGIN:VCALENDAR
VERSION:2.0
PRODID:-//Spółdzielnia Mieszkaniowa Osiedle Młodych - ECPv5.16.4//NONSGML v1.0//EN
CALSCALE:GREGORIAN
METHOD:PUBLISH
X-WR-CALNAME:Spółdzielnia Mieszkaniowa Osiedle Młodych
X-ORIGINAL-URL:https://osiedlemlodych.pl
X-WR-CALDESC:Wydarzenia dla Spółdzielnia Mieszkaniowa Osiedle Młodych
BEGIN:VTIMEZONE
TZID:Europe/Warsaw
BEGIN:DAYLIGHT
TZOFFSETFROM:+0100
TZOFFSETTO:+0200
TZNAME:CEST
DTSTART:20220327T010000
END:DAYLIGHT
BEGIN:STANDARD
TZOFFSETFROM:+0200
TZOFFSETTO:+0100
TZNAME:CET
DTSTART:20221030T010000
END:STANDARD
END:VTIMEZONE
BEGIN:VEVENT
DTSTART;TZID=Europe/Warsaw:20220408T170000
DTEND;TZID=Europe/Warsaw:20220408T183000
DTSTAMP:20260421T205422
CREATED:20220215T192017Z
LAST-MODIFIED:20220325T192802Z
UID:33165-1649437200-1649442600@osiedlemlodych.pl
SUMMARY:KREATYWKI
DESCRIPTION:KREATYWKI to nowy cykl warsztatów artystycznych przeznaczony dla całych rodzin. W tym miesiącu edycja KREATYWEK będzie w wydaniu świątecznym. Będziemy wykonywać różnorodne stroiki wielkanocne \nKoszt 20 zł/os. oraz 15 zł/os. każda kolejny członek rodziny
URL:https://osiedlemlodych.pl/wydarzenia/kreatywki/
LOCATION:Dom Kultury „Jubilat”\, os. Tysiąclecia 30\, Poznań\, wielkopolskie\, 61-255\, Polska
CATEGORIES:Jubilat
ATTACH;FMTTYPE=image/jpeg:https://osiedlemlodych.pl/wp-content/uploads/2022/02/easter-ge02d05972-1920.jpg
END:VEVENT
END:VCALENDAR