BEGIN:VCALENDAR
VERSION:2.0
PRODID:-//Spółdzielnia Mieszkaniowa Osiedle Młodych - ECPv5.16.4//NONSGML v1.0//EN
CALSCALE:GREGORIAN
METHOD:PUBLISH
X-WR-CALNAME:Spółdzielnia Mieszkaniowa Osiedle Młodych
X-ORIGINAL-URL:https://osiedlemlodych.pl
X-WR-CALDESC:Wydarzenia dla Spółdzielnia Mieszkaniowa Osiedle Młodych
BEGIN:VTIMEZONE
TZID:Europe/Warsaw
BEGIN:DAYLIGHT
TZOFFSETFROM:+0100
TZOFFSETTO:+0200
TZNAME:CEST
DTSTART:20260329T010000
END:DAYLIGHT
BEGIN:STANDARD
TZOFFSETFROM:+0200
TZOFFSETTO:+0100
TZNAME:CET
DTSTART:20261025T010000
END:STANDARD
END:VTIMEZONE
BEGIN:VEVENT
DTSTART;TZID=Europe/Warsaw:20260213T160000
DTEND;TZID=Europe/Warsaw:20260213T160000
DTSTAMP:20260421T104540
CREATED:20260108T165319Z
LAST-MODIFIED:20260108T165319Z
UID:54485-1770998400-1770998400@osiedlemlodych.pl
SUMMARY:Kulinarne LOVE
DESCRIPTION:Kolejna kulinarna przygoda przed nami!\nPrzez żołądek do serca!\n13 lutego przygotujemy smakołyki o smaku MIŁOŚCI\, z nutką ciepła\, aromatem troski i przyjacielską posypką! A pysznościami podzielimy się z osobami\, które zajmują wyjątkowe miejsce w naszych serduszkach! \nZapraszamy serdecznie dzieci w wieku 6-12 lat!\n13.02.2026 r. godz.16:00 i 18:00\nKoszt: 60 zł\nZapisy w DK „Polan STO”\, od pn. do pt. w godz. 16:00 – 20:00 lub polansto@osiedlemlodych.pl
URL:https://osiedlemlodych.pl/wydarzenia/kulinarne-love-2/
LOCATION:DK „Polan Sto”
CATEGORIES:Polan Sto
ATTACH;FMTTYPE=image/png:https://osiedlemlodych.pl/wp-content/uploads/2026/01/projekt-bez-nazwy9.png
END:VEVENT
END:VCALENDAR