BEGIN:VCALENDAR
VERSION:2.0
PRODID:-//Spółdzielnia Mieszkaniowa Osiedle Młodych - ECPv5.16.4//NONSGML v1.0//EN
CALSCALE:GREGORIAN
METHOD:PUBLISH
X-WR-CALNAME:Spółdzielnia Mieszkaniowa Osiedle Młodych
X-ORIGINAL-URL:https://osiedlemlodych.pl
X-WR-CALDESC:Wydarzenia dla Spółdzielnia Mieszkaniowa Osiedle Młodych
BEGIN:VTIMEZONE
TZID:Europe/Warsaw
BEGIN:DAYLIGHT
TZOFFSETFROM:+0100
TZOFFSETTO:+0200
TZNAME:CEST
DTSTART:20250330T010000
END:DAYLIGHT
BEGIN:STANDARD
TZOFFSETFROM:+0200
TZOFFSETTO:+0100
TZNAME:CET
DTSTART:20251026T010000
END:STANDARD
END:VTIMEZONE
BEGIN:VEVENT
DTSTART;TZID=Europe/Warsaw:20250214T170000
DTEND;TZID=Europe/Warsaw:20250214T170000
DTSTAMP:20260422T034552
CREATED:20250107T084339Z
LAST-MODIFIED:20250107T084339Z
UID:49416-1739552400-1739552400@osiedlemlodych.pl
SUMMARY:Kulinarne LOVE
DESCRIPTION:W Dniu Świętego Walentego upichcimy coś pysznego! 🩷\n \nKolejna kulinarna przygoda przed nami! \n14 lutego przygotujemy smakołyki o smaku MIŁOŚCI\, z nutką ciepła\, aromatem troski i przyjacielską posypką! A pysznościami podzielimy się z osobami\, które zajmują wyjątkowe miejsce w naszych serduszkach! ❤️ \nZapraszamy serdecznie dzieci w wieku 6-12 lat!\n14.02.2025 r. godz.17:00\nKoszt: 50 zł\nZapisy w DK „Polan STO”\, od pn. do pt. w godz. 16:00 – 20:00 lub polansto@osiedlemlodych.pl
URL:https://osiedlemlodych.pl/wydarzenia/kulinarne-love/
LOCATION:DK „Polan Sto”
CATEGORIES:Polan Sto
ATTACH;FMTTYPE=image/png:https://osiedlemlodych.pl/wp-content/uploads/2025/01/valentynkowe-love.png
END:VEVENT
END:VCALENDAR