BEGIN:VCALENDAR
VERSION:2.0
PRODID:-//Spółdzielnia Mieszkaniowa Osiedle Młodych - ECPv5.16.4//NONSGML v1.0//EN
CALSCALE:GREGORIAN
METHOD:PUBLISH
X-WR-CALNAME:Spółdzielnia Mieszkaniowa Osiedle Młodych
X-ORIGINAL-URL:https://osiedlemlodych.pl
X-WR-CALDESC:Wydarzenia dla Spółdzielnia Mieszkaniowa Osiedle Młodych
BEGIN:VTIMEZONE
TZID:Europe/Warsaw
BEGIN:DAYLIGHT
TZOFFSETFROM:+0100
TZOFFSETTO:+0200
TZNAME:CEST
DTSTART:20230326T010000
END:DAYLIGHT
BEGIN:STANDARD
TZOFFSETFROM:+0200
TZOFFSETTO:+0100
TZNAME:CET
DTSTART:20231029T010000
END:STANDARD
END:VTIMEZONE
BEGIN:VEVENT
DTSTART;TZID=Europe/Warsaw:20231011T160000
DTEND;TZID=Europe/Warsaw:20231011T170000
DTSTAMP:20260422T001154
CREATED:20230904T124006Z
LAST-MODIFIED:20231004T170250Z
UID:42532-1697040000-1697043600@osiedlemlodych.pl
SUMMARY:Lady Latino
DESCRIPTION:💟 𝗟𝗔𝗗𝗬 𝗟𝗔𝗧𝗜𝗡𝗢 to autorski program taneczny w formie choreografii tańców latino\, osadzony w utworach hiszpańskojęzycznych z elementami choreoterapii \n💟 To wyjątkowo radosne zajęcia poprzedzone wspólną\, sympatyczną kawą/herbatą \n\n💟 Adresowane są dla dojrzałych Pań\, które pragną rozsmakować się w ruchu pełnym gracji i pogody ducha\n\n\n \n\n\nśrody 16:00\n\n\n80 zł za miesiąc \n\n\nZapisy 600 873 292\n\n  \n📢 Prosimy o rozesłanie tej informacji wszystkim Paniom (również poza internet)\, które mogą okazać się nią zainteresowane 🥰\n\n\n\n \n\n Zatańczmy Na Skarpie! 😊 💞
URL:https://osiedlemlodych.pl/wydarzenia/ladylatino/
LOCATION:Dom Kultury „Na Skarpie”\, os. Piastowskie 104\, Poznań\, województwo wielkopolskie\, 61-164\, Polska
CATEGORIES:Na Skarpie
ATTACH;FMTTYPE=image/jpeg:https://osiedlemlodych.pl/wp-content/uploads/2022/09/alegria-2.jpg
ORGANIZER;CN="Dom%20Kultury%20%22Na%20Skarpie%22":MAILTO:naskarpie@osiedlemlodych.pl
END:VEVENT
END:VCALENDAR