BEGIN:VCALENDAR
VERSION:2.0
PRODID:-//Spółdzielnia Mieszkaniowa Osiedle Młodych - ECPv5.16.4//NONSGML v1.0//EN
CALSCALE:GREGORIAN
METHOD:PUBLISH
X-WR-CALNAME:Spółdzielnia Mieszkaniowa Osiedle Młodych
X-ORIGINAL-URL:https://osiedlemlodych.pl
X-WR-CALDESC:Wydarzenia dla Spółdzielnia Mieszkaniowa Osiedle Młodych
BEGIN:VTIMEZONE
TZID:Europe/Warsaw
BEGIN:DAYLIGHT
TZOFFSETFROM:+0100
TZOFFSETTO:+0200
TZNAME:CEST
DTSTART:20250330T010000
END:DAYLIGHT
BEGIN:STANDARD
TZOFFSETFROM:+0200
TZOFFSETTO:+0100
TZNAME:CET
DTSTART:20251026T010000
END:STANDARD
END:VTIMEZONE
BEGIN:VEVENT
DTSTART;TZID=Europe/Warsaw:20251205T180000
DTEND;TZID=Europe/Warsaw:20251205T193000
DTSTAMP:20260421T181124
CREATED:20251114T173137Z
LAST-MODIFIED:20251209T144513Z
UID:53783-1764957600-1764963000@osiedlemlodych.pl
SUMMARY:Laponia - spotkanie literacko-podróżnicze z Marią Magdaleną Pocgaj
DESCRIPTION:Maria Magdalena Pocgaj w latach 2013-2020 odwiedziła szwedzką część Laponii sześciokrotnie\, zakochując się w tym regionie. Podczas spotkania autorka opowie o swojej książce prozatorskiej „Mój lapoński sen”\, która jest efektem wspomnianych podróży. Przybliżone zostaną również inne utwory M. M. Pocgaj\, w których porusza lapońskie wątki\, m.in. tom wierszy „Sǻpmi. Wiersze z Północy” (2023)\, który wydała wraz z Andrzejem Szmalem\, od ponad 30 lat żyjącym w Laponii. \nAutorka zaprezentuje również barwne\, urzekające fotografie\, które wykonała w trakcie podróży. Zdjęcia przedstawią odbiorcom inny świat\, jakim jest lapońska kraina\, wprowadzająca do tytułowego „snu”\, w którym renifery mówią dobranoc\, a życie człowieka przebiega w rytmie wyznaczanym przez pierwotną przyrodę. \nMaria Magdalena Pocgaj – poznanianka\, bamberka po mieczu\, z wykształcenia plastyk. Autorka szesnastu tomów wierszy i jednej książki prozatorskiej „Mój lapoński sen”. Tworzy ekfrazy do fotografii i obrazów\, pisze felietony\, szkice literackie\, komentarze\, wstępy do katalogów wystaw. Współpracuje z kwartalnikiem literackim ReWiry (sekretarz redakcji). Wiceprezes Poznańskiego Oddziału Związku Literatów Polskich\, zrzeszona także w Polskim Towarzystwie Tatrzańskim\, Wielkopolskim Stowarzyszeniu Marynistów\, Poznańskim Stowarzyszeniu Pracy Twórczej oraz Wielkopolskim Związku Artystów Plastyków. \nOdznaczenia: Srebrny Krzyż Zasługi\, Srebrny Medal Labor Omnia Vincit\, medal Sanctus Petrus et Sanctus Paulus\, „Zasłużony Działacz Kultury”\, „Zasłużony Pracownik Morza”. \nWiersze prezentuje na antenie radia i na wernisażach\, publikuje w almanachach oraz antologiach. Uprawia rysunek oraz fotografię\, bierze udział w zbiorowych i indywidualnych wystawach fotografii. Od 10 lat prowadzi Ławeczkę Literacką w Ogrodzie Botanicznym UAM. \nSerdecznie zapraszamy na pasjonujące spotkanie! \nSpotkanie odbędzie się w ramach projektu „Ratajski Przystanek Seniora” organizowanego przez Ratajskie Centrum Kultury we współpracy z domami kultury Spółdzielni Mieszkaniowej „Osiedle Młodych” w Poznaniu. Dofinansowano ze środków budżetowych Miasta Poznania.
URL:https://osiedlemlodych.pl/wydarzenia/laponia-spotkanie-literacko-podroznicze-z-maria-magdalena-pocgaj/
LOCATION:Klub „Cybinka”\, ul. Warszawska 93/95\, Poznań\, Wielkopolska\, 61-031\, Poland
CATEGORIES:Klub Cybinka
ATTACH;FMTTYPE=image/png:https://osiedlemlodych.pl/wp-content/uploads/2025/11/mmpocgaj-www.png
ORGANIZER;CN="Klub%20%22Cybinka%22":MAILTO:cybinka@osiedlemlodych.pl
END:VEVENT
END:VCALENDAR