BEGIN:VCALENDAR
VERSION:2.0
PRODID:-//Spółdzielnia Mieszkaniowa Osiedle Młodych - ECPv5.16.4//NONSGML v1.0//EN
CALSCALE:GREGORIAN
METHOD:PUBLISH
X-WR-CALNAME:Spółdzielnia Mieszkaniowa Osiedle Młodych
X-ORIGINAL-URL:https://osiedlemlodych.pl
X-WR-CALDESC:Wydarzenia dla Spółdzielnia Mieszkaniowa Osiedle Młodych
BEGIN:VTIMEZONE
TZID:Europe/Warsaw
BEGIN:DAYLIGHT
TZOFFSETFROM:+0100
TZOFFSETTO:+0200
TZNAME:CEST
DTSTART:20260329T010000
END:DAYLIGHT
BEGIN:STANDARD
TZOFFSETFROM:+0200
TZOFFSETTO:+0100
TZNAME:CET
DTSTART:20261025T010000
END:STANDARD
END:VTIMEZONE
BEGIN:VEVENT
DTSTART;TZID=Europe/Warsaw:20260122T180000
DTEND;TZID=Europe/Warsaw:20260122T203000
DTSTAMP:20260422T034741
CREATED:20260107T170058Z
LAST-MODIFIED:20260112T135250Z
UID:54448-1769104800-1769113800@osiedlemlodych.pl
SUMMARY:Maraton fitness - Gramy razem z WOŚP
DESCRIPTION:Spółdzielnia Mieszkaniowa „Osiedle Młodych” w Poznaniu zaprasza wszystkich sąsiadów na pełne energii wydarzenie sportowe organizowane w ramach 34. Finału Wielkiej Orkiestry Świątecznej Pomocy. Już 22 stycznia w godzinach 18:30–20:30 spotkamy się w Domu Kultury „Jagiellonka” na Maratonie fitness\, aby spędzić aktywnie czas i wesprzeć szczytny cel. \nW tym roku gramy z hasłem „Zdrowe brzuszki naszych dzieci”\, wspierając diagnostykę i leczenie chorób przewodu pokarmowego u najmłodszych pacjentów. Udział w wydarzeniu jest całkowicie bezpłatny\, a w trakcie spotkania będzie możliwość dobrowolnego wsparcia WOŚP poprzez wrzucenie datku do puszki. \nZajęcia poprowadzi Marta Maj – przygotuje dla was wieczór pełen dynamicznych ćwiczeń\, których może podjąć się każdy bez względu na poziom zaawansowania. Przyjdź\, poćwicz\, poczuj świetną atmosferę i jeśli chcesz\, dorzuć swoją cegiełkę do wspólnego grania. Razem możemy zrobić coś dobrego 💪🎶
URL:https://osiedlemlodych.pl/wydarzenia/maraton-fitness-gramy-razem-z-wosp/
LOCATION:Dom Kultury „Jagiellonka”\, os. Jagiellońskie 120\, Poznań\, Polska
CATEGORIES:Jagiellonka
ATTACH;FMTTYPE=image/png:https://osiedlemlodych.pl/wp-content/uploads/2026/01/8.png
END:VEVENT
END:VCALENDAR