BEGIN:VCALENDAR
VERSION:2.0
PRODID:-//Spółdzielnia Mieszkaniowa Osiedle Młodych - ECPv5.16.4//NONSGML v1.0//EN
CALSCALE:GREGORIAN
METHOD:PUBLISH
X-WR-CALNAME:Spółdzielnia Mieszkaniowa Osiedle Młodych
X-ORIGINAL-URL:https://osiedlemlodych.pl
X-WR-CALDESC:Wydarzenia dla Spółdzielnia Mieszkaniowa Osiedle Młodych
BEGIN:VTIMEZONE
TZID:Europe/Warsaw
BEGIN:DAYLIGHT
TZOFFSETFROM:+0100
TZOFFSETTO:+0200
TZNAME:CEST
DTSTART:20240331T010000
END:DAYLIGHT
BEGIN:STANDARD
TZOFFSETFROM:+0200
TZOFFSETTO:+0100
TZNAME:CET
DTSTART:20241027T010000
END:STANDARD
END:VTIMEZONE
BEGIN:VEVENT
DTSTART;TZID=Europe/Warsaw:20240324T180000
DTEND;TZID=Europe/Warsaw:20240324T193000
DTSTAMP:20260420T064101
CREATED:20240226T115010Z
LAST-MODIFIED:20240226T122950Z
UID:45262-1711303200-1711308600@osiedlemlodych.pl
SUMMARY:Międzynarodowy Dzień Teatru z Katarzyną Dąbrowską i Danutą Rinn
DESCRIPTION:Już 24 marca o 18:00 zapraszamy na niezwykłe wydarzenie. Pełne klasy\, wdzięku\, znakomitego aktorstwa oraz perfekcyjnej muzyki i śpiewu. Na scenie Domu Kultury „Jędruś” z okazji Międzynarodowego Dnia Teatru wystąpi Katarzyna Dąbrowska z koncertem pt. 13 randek DaNuty – Rinn piosenki o miłości. \nDanuta Rinn była wszechstronnie wykształcona muzycznie\, a łatwość z jaką śpiewała arcytrudne kompozycje\, lekkość i wdzięk jej  swingowania to pułapka dla tych\, co próbują się z jej piosenkami mierzyć. Niewiele współczesnych wokalistek posiada możliwości wokalne odpowiadające poziomowi trudności tego materiału; jedną z nielicznych jest z pewnością Katarzyna Dąbrowska\, której oryginalna barwa głosu\, nadaje znanym i lubianym piosenkom Rinn zupełnie nowego brzmienia. Wspomagają ją w tym błyskotliwe aranżacje Urszuli Borkowskiej i zabawny scenariusz Magdaleny Smalary. \n13 wybranych do programu utworów stało się pretekstem do snucia rozważań o miłości. A myli się ten\, kto twierdzi\, że wszystko już na ten temat zostało powiedziane. Większość z nas ma swoją miłosną historię\, większość z nas chodziła\, chadza lub w końcu pójdzie na jakąś randkę. Randka. Randka jako obietnica\, randka jako wrota do przyszłości\, randka jako preludium związku\, przedpokój relacji\, randka jako koszmar. \nSkąd wziąć potencjalnych partnerów i partnerki? Dokąd iść na randkę\, w co się ubrać\, co jeść? Jak o związek dbać\, jak go utrzymać? No cóż\, na te pytania nie znajdziecie Państwo odpowiedzi w spektaklu „13 randek DaNuty”. Ale być może nauczycie się przyjmować komplementy\, poznacie sekret bezbolesnego rozstawania się z partnerami „nierokującymi” za pomocą dedykowanej poezji i pojmiecie czego objawem może być brak apetytu. No i posłuchacie świetnych\, świeżo i energetycznie brzmiących piosenek jednej z największych polskich wokalistek wszech czasów\, Danuty Rinn\, w wykonaniu zjawiskowej Katarzyny Dąbrowskiej. \nPiosenki\, jakie będzie można usłyszeć podczas koncertu to: „Gdzie Ci mężczyźni”\, „Polska baba”\, „Sposób na panów”\, „Jerzy Blues”. „Nie mam woli do zamęścia” i… jeszcze osiem innych. Katarzynie Dąbrowskiej będzie akompaniować na pianie Urszula Borkowska. \nBilety w cenie 45 zł do nabycia we wszystkich Ratajskich Domach Kultury. \nFot. Przemysław Wojtaś
URL:https://osiedlemlodych.pl/wydarzenia/miedzynarodowy-dzien-teatru-z-katarzyna-dabrowska-i-danuta-rinn/
LOCATION:Dom Kultury „Jędruś”\, os. Armii Krajowej 101\, Poznań\, Wielkopolskie\, 61-381\, Polska
CATEGORIES:Orle Gniazdo,Polan Sto,Placówki Kulturalne "Na Rusa",Jagiellonka,Jędruś,Jubilat,Klub Cybinka,Na pięterku,Na Skarpie
ATTACH;FMTTYPE=image/jpeg:https://osiedlemlodych.pl/wp-content/uploads/2024/02/katarzyna-dabrowska.jpg
END:VEVENT
END:VCALENDAR