BEGIN:VCALENDAR
VERSION:2.0
PRODID:-//Spółdzielnia Mieszkaniowa Osiedle Młodych - ECPv5.16.4//NONSGML v1.0//EN
CALSCALE:GREGORIAN
METHOD:PUBLISH
X-WR-CALNAME:Spółdzielnia Mieszkaniowa Osiedle Młodych
X-ORIGINAL-URL:https://osiedlemlodych.pl
X-WR-CALDESC:Wydarzenia dla Spółdzielnia Mieszkaniowa Osiedle Młodych
BEGIN:VTIMEZONE
TZID:Europe/Warsaw
BEGIN:DAYLIGHT
TZOFFSETFROM:+0100
TZOFFSETTO:+0200
TZNAME:CEST
DTSTART:20250330T010000
END:DAYLIGHT
BEGIN:STANDARD
TZOFFSETFROM:+0200
TZOFFSETTO:+0100
TZNAME:CET
DTSTART:20251026T010000
END:STANDARD
END:VTIMEZONE
BEGIN:VEVENT
DTSTART;TZID=Europe/Warsaw:20251203T163000
DTEND;TZID=Europe/Warsaw:20251203T180000
DTSTAMP:20260422T020347
CREATED:20251119T195530Z
LAST-MODIFIED:20251119T195530Z
UID:53892-1764779400-1764784800@osiedlemlodych.pl
SUMMARY:Mikołajkowy HIP-HOP
DESCRIPTION:Hop\, hop – gdzie jesteście? Wskoczcie do nas tanecznym krokiem na MIKOŁAJKOWYM HIP-HOP! Będzie mnóstwo zabawy i twórczych zmagań 🙂\n\n\n\nWSTĘP WOLNY!!!\n\n\n\nImpreza dla dzieci w wieku 5-11 lat.\n\n\n\n\nINFORMACJE I ZAPISY:\n– osobiście: Dom Kultury „Jubilat”\, os. Tysiąclecia 30\, Poznań (pon-pt w godz. 16:00-20:00)\n– telefonicznie: 61 876 08 40 (pon-pt w godz. 16:00-20:00)\n– e-mail: jubilat@osiedlemlodych.pl
URL:https://osiedlemlodych.pl/wydarzenia/mikolajkowy-hip-hop/
LOCATION:Dom Kultury „Jubilat”\, os. Tysiąclecia 30\, Poznań\, wielkopolskie\, 61-255\, Polska
CATEGORIES:Jubilat
ATTACH;FMTTYPE=image/png:https://osiedlemlodych.pl/wp-content/uploads/2025/11/zdrowy-kregoslup4-1.png
END:VEVENT
END:VCALENDAR