BEGIN:VCALENDAR
VERSION:2.0
PRODID:-//Spółdzielnia Mieszkaniowa Osiedle Młodych - ECPv5.16.4//NONSGML v1.0//EN
CALSCALE:GREGORIAN
METHOD:PUBLISH
X-WR-CALNAME:Spółdzielnia Mieszkaniowa Osiedle Młodych
X-ORIGINAL-URL:https://osiedlemlodych.pl
X-WR-CALDESC:Wydarzenia dla Spółdzielnia Mieszkaniowa Osiedle Młodych
BEGIN:VTIMEZONE
TZID:Europe/Warsaw
BEGIN:DAYLIGHT
TZOFFSETFROM:+0100
TZOFFSETTO:+0200
TZNAME:CEST
DTSTART:20180325T010000
END:DAYLIGHT
BEGIN:STANDARD
TZOFFSETFROM:+0200
TZOFFSETTO:+0100
TZNAME:CET
DTSTART:20181028T010000
END:STANDARD
END:VTIMEZONE
BEGIN:VEVENT
DTSTART;TZID=Europe/Warsaw:20181215T100000
DTEND;TZID=Europe/Warsaw:20181215T153000
DTSTAMP:20260425T031329
CREATED:20180904T175317Z
LAST-MODIFIED:20181002T165510Z
UID:17694-1544868000-1544887800@osiedlemlodych.pl
SUMMARY:Gwiazdkowy Turniej Szachowy w DK "Na Pięterku"
DESCRIPTION:Więcej informacji wkrótce.
URL:https://osiedlemlodych.pl/wydarzenia/mikolajkowy-turniej-szachowy-w-dk-na-pieterku/
LOCATION:DK „Na Pięterku”\, os. Orła Białego 5\, Poznań
CATEGORIES:Na pięterku
ATTACH;FMTTYPE=image/jpeg:https://osiedlemlodych.pl/wp-content/uploads/2018/09/michal-parzuchowski-227671.jpg
END:VEVENT
END:VCALENDAR