BEGIN:VCALENDAR
VERSION:2.0
PRODID:-//Spółdzielnia Mieszkaniowa Osiedle Młodych - ECPv5.16.4//NONSGML v1.0//EN
CALSCALE:GREGORIAN
METHOD:PUBLISH
X-WR-CALNAME:Spółdzielnia Mieszkaniowa Osiedle Młodych
X-ORIGINAL-URL:https://osiedlemlodych.pl
X-WR-CALDESC:Wydarzenia dla Spółdzielnia Mieszkaniowa Osiedle Młodych
BEGIN:VTIMEZONE
TZID:Europe/Warsaw
BEGIN:DAYLIGHT
TZOFFSETFROM:+0100
TZOFFSETTO:+0200
TZNAME:CEST
DTSTART:20230326T010000
END:DAYLIGHT
BEGIN:STANDARD
TZOFFSETFROM:+0200
TZOFFSETTO:+0100
TZNAME:CET
DTSTART:20231029T010000
END:STANDARD
END:VTIMEZONE
BEGIN:VEVENT
DTSTART;TZID=Europe/Warsaw:20231109T170000
DTEND;TZID=Europe/Warsaw:20231109T190000
DTSTAMP:20260420T192604
CREATED:20231016T094018Z
LAST-MODIFIED:20231016T094018Z
UID:43423-1699549200-1699556400@osiedlemlodych.pl
SUMMARY:Młody Naukowiec
DESCRIPTION:Uwaga! Otwieramy laboratorium\, w którym spojrzymy na świat oczami prawdziwego naukowca. Poszukamy odpowiedzi na pytania: Czy jedzenie może świecić? Jaki kolor ma woda? Skąd się bierze czarny kolor? I wiele innych… Zapraszamy na bezpłatne zajęcia pokazowe 9 listopada\, na godz. 17:00 dzieci w wieku 5-7 lat\, a na godz. 18:00 dzieci w wieku 8-10 lat. \nCyklicznie zajęcia odbywać się będą dwa razy w miesiącu\, będą miały charakter warsztatowy\, a ich koszt to 35zł za zajęcia. Zapisy w DK „Polan STO” lub u pani Natalii Kolwicz\, tel. 790 716 525 \n 
URL:https://osiedlemlodych.pl/wydarzenia/mlody-naukowiec/
LOCATION:DK „Polan Sto”
CATEGORIES:Polan Sto
ATTACH;FMTTYPE=image/jpeg:https://osiedlemlodych.pl/wp-content/uploads/2023/10/mali-naukowcy-pracujacy-w-laboratorium-1.jpg
END:VEVENT
END:VCALENDAR