BEGIN:VCALENDAR
VERSION:2.0
PRODID:-//Spółdzielnia Mieszkaniowa Osiedle Młodych - ECPv5.16.4//NONSGML v1.0//EN
CALSCALE:GREGORIAN
METHOD:PUBLISH
X-WR-CALNAME:Spółdzielnia Mieszkaniowa Osiedle Młodych
X-ORIGINAL-URL:https://osiedlemlodych.pl
X-WR-CALDESC:Wydarzenia dla Spółdzielnia Mieszkaniowa Osiedle Młodych
BEGIN:VTIMEZONE
TZID:Europe/Warsaw
BEGIN:DAYLIGHT
TZOFFSETFROM:+0100
TZOFFSETTO:+0200
TZNAME:CEST
DTSTART:20260329T010000
END:DAYLIGHT
BEGIN:STANDARD
TZOFFSETFROM:+0200
TZOFFSETTO:+0100
TZNAME:CET
DTSTART:20261025T010000
END:STANDARD
END:VTIMEZONE
BEGIN:VEVENT
DTSTART;TZID=Europe/Warsaw:20260123T173000
DTEND;TZID=Europe/Warsaw:20260123T183000
DTSTAMP:20260422T035309
CREATED:20260107T182405Z
LAST-MODIFIED:20260123T184241Z
UID:54451-1769189400-1769193000@osiedlemlodych.pl
SUMMARY:Najpiękniejsze kolędy i piosenki świąteczne na harfę i dwa głosy - Gramy razem z WOŚP
DESCRIPTION:Spółdzielnia Mieszkaniowa „Osiedle Młodych” w Poznaniu zaprasza wszystkich sąsiadów na koncert „Najpiękniejsze kolędy i piosenki świąteczne na harfę i dwa głosy”. \nWystąpią dla Państwa Karolina Zdrojkowska-Pytlak (śpiew) i Michał Zator (śpiew\, harfa). Gościnnie na naszej scenie pojawi się również Karolina Grześkowiak (śpiew\, harfa). \nWydarzenie organizowane jest w ramach 34. Finału WOŚP. W 2026 roku wspomagamy diagnostykę i leczenie chorób przewodu pokarmowego u najmłodszych pacjentów\, grając z hasłem: „Zdrowe brzuszki naszych dzieci”. \nPodczas tego darmowego wydarzenia będzie można wesprzeć Wielką Orkiestrę Świątecznej Pomocy\, wrzucając dobrowolny datek do puszki. \nArtyści połączą tradycyjny polski kolędowy repertuar z utworami świątecznymi pochodzącymi z szeroko pojętego kręgu kultury celtyckiej (irlandzkiej\, brytyjskiej\, szkockiej) oraz najbardziej rozpoznawalnymi hitami świątecznymi muzyki popularnej. \nBezpłatne wejściówki do odbioru od 9 stycznia w biurze DK „Na Pięterku” (biuro jest czynne od poniedziałku do piątku w godz. 15:00-20:00).
URL:https://osiedlemlodych.pl/wydarzenia/najpiekniejsze-koledy-i-piosenki-swiateczne-na-harfe-i-dwa-glosy/
LOCATION:Dom Kultury „Na Pięterku”\, os. Orła Białego 5\, Poznań\, Wielkopolska\, 61-251\, Poland
CATEGORIES:Na pięterku
ATTACH;FMTTYPE=image/png:https://osiedlemlodych.pl/wp-content/uploads/2026/01/12.png
END:VEVENT
END:VCALENDAR