BEGIN:VCALENDAR
VERSION:2.0
PRODID:-//Spółdzielnia Mieszkaniowa Osiedle Młodych - ECPv5.16.4//NONSGML v1.0//EN
CALSCALE:GREGORIAN
METHOD:PUBLISH
X-WR-CALNAME:Spółdzielnia Mieszkaniowa Osiedle Młodych
X-ORIGINAL-URL:https://osiedlemlodych.pl
X-WR-CALDESC:Wydarzenia dla Spółdzielnia Mieszkaniowa Osiedle Młodych
BEGIN:VTIMEZONE
TZID:Europe/Warsaw
BEGIN:DAYLIGHT
TZOFFSETFROM:+0100
TZOFFSETTO:+0200
TZNAME:CEST
DTSTART:20230326T010000
END:DAYLIGHT
BEGIN:STANDARD
TZOFFSETFROM:+0200
TZOFFSETTO:+0100
TZNAME:CET
DTSTART:20231029T010000
END:STANDARD
END:VTIMEZONE
BEGIN:VEVENT
DTSTART;TZID=Europe/Warsaw:20230127T163000
DTEND;TZID=Europe/Warsaw:20230127T193000
DTSTAMP:20260421T131926
CREATED:20221212T092426Z
LAST-MODIFIED:20230110T173735Z
UID:37823-1674837000-1674847800@osiedlemlodych.pl
SUMMARY:"Nie bądź dzban"
DESCRIPTION:Warsztat baaaardzo kreatyny\, na który baaaaaardzo serdecznie zapraszamy! „Nie bądź dzban” w ramach cyklu „POLANkowe COŚ”. Będziemy wykonywać z gliny przeróżne wytwory naszej wyobraźni\, które z całą pewnością posłużą nam w codziennym życiu. Projekt skierowany do wszystkich tych\, którzy chcą wspomóc Wielką Orkiestrę Świątecznej Pomocy\, bo wszystkie dobrowolne datki przeznaczamy na ten cel. \nZapraszamy na godzinę 16:30 lub 18:00 \nZapisy w DK „Polan STO”\, tel. 618 797 151\, w godz. 16:00 – 20:00.
URL:https://osiedlemlodych.pl/wydarzenia/nie-badz-dzban/
LOCATION:DK „Polan Sto”
CATEGORIES:Polan Sto
ATTACH;FMTTYPE=image/png:https://osiedlemlodych.pl/wp-content/uploads/2022/12/glina-2.png
END:VEVENT
END:VCALENDAR