BEGIN:VCALENDAR
VERSION:2.0
PRODID:-//Spółdzielnia Mieszkaniowa Osiedle Młodych - ECPv5.16.4//NONSGML v1.0//EN
CALSCALE:GREGORIAN
METHOD:PUBLISH
X-WR-CALNAME:Spółdzielnia Mieszkaniowa Osiedle Młodych
X-ORIGINAL-URL:https://osiedlemlodych.pl
X-WR-CALDESC:Wydarzenia dla Spółdzielnia Mieszkaniowa Osiedle Młodych
BEGIN:VTIMEZONE
TZID:Europe/Warsaw
BEGIN:DAYLIGHT
TZOFFSETFROM:+0100
TZOFFSETTO:+0200
TZNAME:CEST
DTSTART:20230326T010000
END:DAYLIGHT
BEGIN:STANDARD
TZOFFSETFROM:+0200
TZOFFSETTO:+0100
TZNAME:CET
DTSTART:20231029T010000
END:STANDARD
END:VTIMEZONE
BEGIN:VEVENT
DTSTART;TZID=Europe/Warsaw:20231024T090000
DTEND;TZID=Europe/Warsaw:20231024T113000
DTSTAMP:20260421T145050
CREATED:20221014T082017Z
LAST-MODIFIED:20230925T100055Z
UID:36710-1698138000-1698147000@osiedlemlodych.pl
SUMMARY:Internet w praktyce - bezpłatny kurs dla seniorów
DESCRIPTION:Wydarzenie odbędzie się w ramach cyklu „Ratajski Przystanek Seniora” i zostało dofinansowane ze środków budżetowych Miasta Poznania.\n5-godzinny kurs komputerowy obejmuje zagadnienia związane z internetem\, m.in. w jaki sposób założyć skrzynkę mailową\, obsługiwać przeglądarkę\, zadbać o swoje bezpieczeństwo w sieci\, zrobić zakupy internetowe itp.\nOrganizator zapewnia sprzęt komputerowy. \nWarsztaty odbędą się 24 i 25 października\, w godz. 9.00-11.30. \nIlość miejsc ograniczona. Obowiązują zapisy telefoniczne\, mailowe lub osobiste w biurze DK „Jędruś”.
URL:https://osiedlemlodych.pl/wydarzenia/nie-boj-sie-komputera-bezplatny-kurs-dla-seniorow/
LOCATION:Dom Kultury „Jędruś”\, os. Armii Krajowej 101\, Poznań\, Wielkopolskie\, 61-381\, Polska
CATEGORIES:DOMY KULTURY,Jędruś
ATTACH;FMTTYPE=image/jpeg:https://osiedlemlodych.pl/wp-content/uploads/2022/10/osoba-korzysta-z-laptopa-do-pracy.jpg
END:VEVENT
END:VCALENDAR