BEGIN:VCALENDAR
VERSION:2.0
PRODID:-//Spółdzielnia Mieszkaniowa Osiedle Młodych - ECPv5.16.4//NONSGML v1.0//EN
CALSCALE:GREGORIAN
METHOD:PUBLISH
X-WR-CALNAME:Spółdzielnia Mieszkaniowa Osiedle Młodych
X-ORIGINAL-URL:https://osiedlemlodych.pl
X-WR-CALDESC:Wydarzenia dla Spółdzielnia Mieszkaniowa Osiedle Młodych
BEGIN:VTIMEZONE
TZID:Europe/Warsaw
BEGIN:DAYLIGHT
TZOFFSETFROM:+0100
TZOFFSETTO:+0200
TZNAME:CEST
DTSTART:20260329T010000
END:DAYLIGHT
BEGIN:STANDARD
TZOFFSETFROM:+0200
TZOFFSETTO:+0100
TZNAME:CET
DTSTART:20261025T010000
END:STANDARD
END:VTIMEZONE
BEGIN:VEVENT
DTSTART;TZID=Europe/Warsaw:20260131T110000
DTEND;TZID=Europe/Warsaw:20260131T123000
DTSTAMP:20260421T191333
CREATED:20260108T102416Z
LAST-MODIFIED:20260108T102416Z
UID:54459-1769857200-1769862600@osiedlemlodych.pl
SUMMARY:Nie warto być superwoman - spotkanie z Anną Diller (w ramach cyklu "Z MIŁOŚCI DO SIEBIE")
DESCRIPTION:Zapraszamy na pierwsze spotkanie z cyklu „Z MIŁOŚCI DO SIEBIE”\, którego gościem będzie Anna Diller – mentorka\, przedsiębiorczyni\, założyciela Rozwijalni Kobiet i autorka książki „Rak bez tabu”. Na swojej stronie pisze\, że wszystkie jej projekty łączy jedna misja – wspieranie kobiet w rozwijaniu skrzydeł\, by mogły wstawać rano z uśmiechem na twarzy\, żyjąc zgodnie ze sobą. \nJej rzeczywistość jednak uległa dramatycznej zmianie\, gdy rok temu stanęła w obliczu diagnozy nowotworowej — i właśnie to doświadczenie stało się punktem zwrotnym\, który zainspirował ją do napisania „Rak bez tabu”. Książka to pierwszy taki na polskim rynku terapeutyczny przewodnik dla kobiet dotkniętych chorobą i ich bliskich. Zawiera historie kilkunastu kobiet\, które stawiły czoła rakowi\, oraz wskazówki ekspertów: jak nie poddać się\, jak podejść holistycznie do leczenia\, jak radzić sobie z emocjami\, finansami\, relacjami\, życiem intymnym i poczuciem własnej wartości. \nSpotkanie „Nie warto być superwoman – warto się zatrzymać”  to zaproszenie do dialogu o życiu\, o momencie\, w którym presja bycia perfekcyjną niszczy\, i o tym\, jak choroba może zmusić do zatrzymania się — by zrozumieć\, co jest naprawdę ważne. \nW trakcie spotkania autorka opowie m.in.: \n\no własnej drodze przez chorobę — bez upiększeń\, z autentycznością i nadzieją\,\no tym\, jak w pogoni za sukcesem i perfekcją łatwo zatracić siebie\no technikach radzenia sobie z presją\, przewartościowaniu priorytetów — także na gruncie biznesowym i osobistym\,\no tym\, jak choroba może być początkiem nowej drogi\, a nie końcem.\n\nPo prelekcji przewidziany jest też czas na pytania\, dyskusję i refleksję uczestników. \n  \nStrona książki: https://annadiller.pl/rak-bez-tabu/ \nWywiad z Anną Diller: https://youtu.be/oe_f133yGqc?si=GdT3qOdgABw7DqYa \n  \nUdział w wydarzeniu jest bezpłatny. Konieczna wcześniejsza rezerwacja miejsc! \n 
URL:https://osiedlemlodych.pl/wydarzenia/nie-warto-byc-superwoman-spotkanie-z-anna-diller-w-ramach-cyklu-z-milosci-do-siebie/
LOCATION:Dom Kultury „Orle Gniazdo”\, os. Lecha 43\, Poznań\, Wielkopolskie\, 61-294\, Polska
CATEGORIES:Orle Gniazdo
ATTACH;FMTTYPE=image/webp:https://osiedlemlodych.pl/wp-content/uploads/2026/01/projekt-bez-nazwy-78.webp
END:VEVENT
END:VCALENDAR