BEGIN:VCALENDAR
VERSION:2.0
PRODID:-//Spółdzielnia Mieszkaniowa Osiedle Młodych - ECPv5.16.4//NONSGML v1.0//EN
CALSCALE:GREGORIAN
METHOD:PUBLISH
X-WR-CALNAME:Spółdzielnia Mieszkaniowa Osiedle Młodych
X-ORIGINAL-URL:https://osiedlemlodych.pl
X-WR-CALDESC:Wydarzenia dla Spółdzielnia Mieszkaniowa Osiedle Młodych
BEGIN:VTIMEZONE
TZID:Europe/Warsaw
BEGIN:DAYLIGHT
TZOFFSETFROM:+0100
TZOFFSETTO:+0200
TZNAME:CEST
DTSTART:20250330T010000
END:DAYLIGHT
BEGIN:STANDARD
TZOFFSETFROM:+0200
TZOFFSETTO:+0100
TZNAME:CET
DTSTART:20251026T010000
END:STANDARD
END:VTIMEZONE
BEGIN:VEVENT
DTSTART;TZID=Europe/Warsaw:20250111T160000
DTEND;TZID=Europe/Warsaw:20250111T180000
DTSTAMP:20260421T192547
CREATED:20241216T153104Z
LAST-MODIFIED:20241216T153104Z
UID:49233-1736611200-1736618400@osiedlemlodych.pl
SUMMARY:Noworoczne kolędowanie
DESCRIPTION:W programie:\n– Jasełka na wesoło – Teatrzyk „Na Luzie” z Biedruska;\n– Kolędy i pastorałki w wykonaniu Chóru „Cantores Assumptae” pod dyr. Agnieszki Pakulskiej.\nSerdecznie zapraszamy do wspólnego śpiewu! \nBezpłatne wejściówki do odbioru w biurze DK „Jędruś” od 2 stycznia 2025 r.
URL:https://osiedlemlodych.pl/wydarzenia/noworoczne-koledowanie/
LOCATION:Dom Kultury „Jędruś”\, os. Armii Krajowej 101\, Poznań\, Wielkopolskie\, 61-381\, Polska
CATEGORIES:DOMY KULTURY,Jędruś
ATTACH;FMTTYPE=image/jpeg:https://osiedlemlodych.pl/wp-content/uploads/2019/01/koledy2.jpg
END:VEVENT
END:VCALENDAR