BEGIN:VCALENDAR
VERSION:2.0
PRODID:-//Spółdzielnia Mieszkaniowa Osiedle Młodych - ECPv5.16.4//NONSGML v1.0//EN
CALSCALE:GREGORIAN
METHOD:PUBLISH
X-WR-CALNAME:Spółdzielnia Mieszkaniowa Osiedle Młodych
X-ORIGINAL-URL:https://osiedlemlodych.pl
X-WR-CALDESC:Wydarzenia dla Spółdzielnia Mieszkaniowa Osiedle Młodych
BEGIN:VTIMEZONE
TZID:Europe/Warsaw
BEGIN:DAYLIGHT
TZOFFSETFROM:+0100
TZOFFSETTO:+0200
TZNAME:CEST
DTSTART:20260329T010000
END:DAYLIGHT
BEGIN:STANDARD
TZOFFSETFROM:+0200
TZOFFSETTO:+0100
TZNAME:CET
DTSTART:20261025T010000
END:STANDARD
END:VTIMEZONE
BEGIN:VEVENT
DTSTART;TZID=Europe/Warsaw:20260117T100000
DTEND;TZID=Europe/Warsaw:20260117T143000
DTSTAMP:20260422T072250
CREATED:20251127T185441Z
LAST-MODIFIED:20251127T185441Z
UID:54093-1768644000-1768660200@osiedlemlodych.pl
SUMMARY:Noworoczny Turniej Szachowy
DESCRIPTION:1.Cele Turnieju:\n– Popularyzacja sportu szachowego na terenie Miasta Poznania i Województwa Wielkopolskiego\n– Integracja środowiska szachowego \n2.Organizatorzy Turnieju:\n– Dom Kultury „Orle Gniazdo”\n– Spółdzielnia Mieszkaniowa „OSIEDLE MŁODYCH” w Poznaniu\n– Sekcja Szachowa AZS POLITECHNIKA Poznańska\n– Witryna szachowa www.szachydladzieci.com.pl \n3. Komitet Organizacyjny i Komisja Sędziowska:\n– Małgorzata Gładysiak- Kierownik Domu Kultury „ORLE GNIAZDO” w Poznaniu\n– Hanna Zboroń – sędzia rundowy\n– Marek Zboroń- sędzia Główny \n4.Turnieje\, miejsce i system rozgrywek:\nRozegrane zostaną cztery oddzielne turnieje w grupach:\n– Turniej A dla dzieci do III klasy Szkoły Podstawowej\n– Turniej B dla dzieci od IV do VI klasy Szkoły Podstawowej\n– Turniej C dla dzieci z VII i VIII klasy SP oraz młodzieży szkół ponadpodstawowych\n– Turniej D – Otwarty dla osób dorosłych\nMiejsce rozgrywek:\nDom Kultury „ORLE GNIAZDO”\, Os. Lecha 43 w Poznaniu\n– Turnieje będą rozgrywane systemem szwajcarskim kontrolowanym na dystansie 6 rund (turniej A) i 7 rund (turnieje B\, C i D) z tempem gry po 15 minut na partię dla zawodnika\n– Obowiązują przepisy gry Międzynarodowej Federacji Szachowej (FIDE) i Kodeksu Szachowego PZSzach z 2005 roku wraz z uzupełnieniami. \n5.Termin: SOBOTA 17 stycznia 2026 r.\nGodz. 9.00 – 9.45 przyjmowanie potwierdzeń udziału w Turnieju\, wpisowego oraz nowych zgłoszeń – tylko w przypadku wolnych miejsc\nGodz. 9.45 zamknięcie listy zgłoszeń\nGodz. 10.00 uroczyste otwarcie Turnieju\nOk. Godz. 14.30 ogłoszenie wyników i uroczyste zamknięcie Turnieju \n6. Nagrody:\n– Puchary i dyplomy dla najlepszych w Turniejach A\, B i C\n– Dla wszystkich uczestników Turnieju przewidziane są nagrody rzeczowe i upominki \n7. Zgłoszenia do udziału w Turnieju:\nZgłoszenia TYLKO DROGĄ MAILOWĄ prosimy kierować na adres mailowy:  szachydladzieci@wp.pl lub zarejestrować zgłoszenie na stronie ChessArbitra w terminie do 15 stycznia 2026 r.\nUWAGA: liczba miejsc w Turnieju ograniczona – o udziale może decydować kolejność  zgłoszeń.  W zgłoszeniu należy podać: imię i nazwisko\, tytuł szachowy lub kategorię szachową\, aktualny\nranking (FIDE / krajowy)\, przynależność klubową\, datę urodzenia (dotyczy juniorów) oraz wybrany turniej szachowy (Turniej A\, B\, C lub Turniej D). Dla ułatwienia kontaktu prosimy o podanie numeru telefonu i adresu E-mail.\nUczestnicy zakwalifikowani do udziału w Turnieju otrzymają drogą mailową informację  zwrotną.\nAktualna lista uczestników publikowana będzie na stronie www.szachydladzieci.com.pl\nWpisowe do turniejów: 50 zł od uczestnika (płatne na sali gry – przed rozpoczęciem rozgrywek) \n8.Informacje dodatkowe:\n– Organizator zapewnia sprzęt szachowy\n– Prawo interpretacji niniejszego Komunikatu należy do Organizatora Turnieju.\n– Zawodnicy lub kluby pokrywają koszty ewentualnego indywidualnego ubezpieczenia zdrowotnego.\n– Organizator turnieju informuje\, że potwierdzenie zgłoszenia się do turnieju i udział w turnieju jest równoznaczne z wyrażeniem zgody na przetwarzanie danych osobowych uczestników\, służących\nwyłącznie dla celów związanych z turniejem (publikowanie wyników\, prezentacja zdjęć\, promocja turnieju)
URL:https://osiedlemlodych.pl/wydarzenia/noworoczny-turniej-szachowy/
LOCATION:Dom Kultury „Orle Gniazdo”\, os. Lecha 43\, Poznań\, Wielkopolskie\, 61-294\, Polska
CATEGORIES:Orle Gniazdo
ATTACH;FMTTYPE=image/jpeg:https://osiedlemlodych.pl/wp-content/uploads/2020/02/zdjecie_szachy.jpg
END:VEVENT
END:VCALENDAR