BEGIN:VCALENDAR
VERSION:2.0
PRODID:-//Spółdzielnia Mieszkaniowa Osiedle Młodych - ECPv5.16.4//NONSGML v1.0//EN
CALSCALE:GREGORIAN
METHOD:PUBLISH
X-WR-CALNAME:Spółdzielnia Mieszkaniowa Osiedle Młodych
X-ORIGINAL-URL:https://osiedlemlodych.pl
X-WR-CALDESC:Wydarzenia dla Spółdzielnia Mieszkaniowa Osiedle Młodych
BEGIN:VTIMEZONE
TZID:Europe/Warsaw
BEGIN:DAYLIGHT
TZOFFSETFROM:+0100
TZOFFSETTO:+0200
TZNAME:CEST
DTSTART:20260329T010000
END:DAYLIGHT
BEGIN:STANDARD
TZOFFSETFROM:+0200
TZOFFSETTO:+0100
TZNAME:CET
DTSTART:20261025T010000
END:STANDARD
END:VTIMEZONE
BEGIN:VEVENT
DTSTART;VALUE=DATE:20260315
DTEND;VALUE=DATE:20260316
DTSTAMP:20260419T151912
CREATED:20260212T175552Z
LAST-MODIFIED:20260304T163548Z
UID:54959-1773532800-1773619199@osiedlemlodych.pl
SUMMARY:Open call "Nasze osiedla\, nasze bloki" - konkurs na udział w wystawie
DESCRIPTION:Zapraszamy poznańskich młodych artystów do zgłaszania prac na wystawę „Nasze osiedla\, nasze bloki” poświęconej refleksji nad przestrzenią osiedli mieszkaniowych. Interesuje nas blok nie tylko jako forma architektoniczna\, ale także jako miejsce codziennego życia\, przestrzeń pamięci i prywatnych historii oraz nośnik emocji i relacji społecznych. Chcemy spojrzeć na osiedla z perspektywy mieszkańców – z balkonów\, podwórek\, klatek schodowych i przejść między blokami. Ciekawią nas zarówno obrazy codzienności\, jak i przemiany społeczne\, symboliczne oraz estetyczne zachodzące w tych przestrzeniach. \nDo udziału zapraszamy osoby w wieku 18–28 lat związane z Poznaniem.Można zgłosić maksymalnie 3 prace płaskie (do 100 cm wysokości)\, w dowolnej technice. \n👉Jeśli nie spełniasz któregoś z kryteriów\, ale Twoja praca wpisuje się w temat wystawy\, zostaw taką informację w uwagach na końcu formularza – rozpatrzymy ją indywidualnie. \n📅 Termin nadsyłania zgłoszeń: do 15.03.2026 r.📍 Wernisaż wystawy: 10.04.2026 r.\, godz. 18:00📍 Miejsce: Dom Kultury „Jagiellonka” w Poznaniu \nUdział w konkursie jest bezpłatny. \nSzczegółowe informacje zawarte są w poniższym regulaminie: \nRegulamin konkursu \nZgłoszenia należy przesłać przez formularz online: \nFormularz zgłoszeniowy
URL:https://osiedlemlodych.pl/wydarzenia/open-call-nasze-osiedla-nasze-bloki-konkurs-na-udzial-w-wystawie/
LOCATION:Dom Kultury „Jagiellonka”\, os. Jagiellońskie 120\, Poznań\, Polska
CATEGORIES:Jagiellonka
ATTACH;FMTTYPE=image/png:https://osiedlemlodych.pl/wp-content/uploads/2026/02/open-call1.png
END:VEVENT
END:VCALENDAR