BEGIN:VCALENDAR
VERSION:2.0
PRODID:-//Spółdzielnia Mieszkaniowa Osiedle Młodych - ECPv5.16.4//NONSGML v1.0//EN
CALSCALE:GREGORIAN
METHOD:PUBLISH
X-WR-CALNAME:Spółdzielnia Mieszkaniowa Osiedle Młodych
X-ORIGINAL-URL:https://osiedlemlodych.pl
X-WR-CALDESC:Wydarzenia dla Spółdzielnia Mieszkaniowa Osiedle Młodych
BEGIN:VTIMEZONE
TZID:Europe/Warsaw
BEGIN:DAYLIGHT
TZOFFSETFROM:+0100
TZOFFSETTO:+0200
TZNAME:CEST
DTSTART:20240331T010000
END:DAYLIGHT
BEGIN:STANDARD
TZOFFSETFROM:+0200
TZOFFSETTO:+0100
TZNAME:CET
DTSTART:20241027T010000
END:STANDARD
END:VTIMEZONE
BEGIN:VEVENT
DTSTART;TZID=Europe/Warsaw:20241123T180000
DTEND;TZID=Europe/Warsaw:20241123T190000
DTSTAMP:20260421T053555
CREATED:20241030T095857Z
LAST-MODIFIED:20241030T113103Z
UID:48674-1732384800-1732388400@osiedlemlodych.pl
SUMMARY:"Piosenki z kuferka" - koncert Poznańskich Senioritek
DESCRIPTION:Serdecznie zapraszamy na koncert Chóru Kameralnego Poznańskie Senioritki pod dyrekcją Ewy Wodzyńskiej pt. „Piosenki z kuferka”\, z gościnnym udziałem Piotra Postaremczaka (saksofon).  \nChór Kameralny Poznańskie Senioritki obchodzi właśnie jubileusz 10-lecia. Powstał z inicjatywy dyrygentki Ewy Wodzyńskiej (absolwentka wydziału Dyrygentury Chóralnej Akademii Muzycznej w Poznaniu)\, skupiając panie w wieku senioralnym z Poznania i okolic. Ciekawe aranżacje\,  kolorowe stroje i zabawne gadżety\, a także humor i niezwykła energia Zespołu budzą ogromny entuzjazm  u odbiorców. Poznańskie Senioritki  zdobywają szturmem serca zarówno publiczności jak i jurorów festiwali w całym kraju.\nW ciągu dziesięciu lat swojej działalności zespół dał kilkaset koncertów\, dzięki czemu stał się kolorową wizytówką amatorskiego ruchu artystycznego Miasta Poznania.\nKoncerty Senioritek składają się z muzycznych perełek światowej muzyki rozrywkowej\,  poczynając od lat 20-tych ubiegłego wieku aż do kompozycji współczesnych w unikalnych aranżacjach Ewy Wodzyńskiej pisanych specjalnie dla Zespołu.                                         \nWydarzenie bezpłatne – dofinansowane z budżetu Miasta Poznania.\n#poznanwspiera\nWejściówki dostępne w biurze DK „Jędruś” od 5 listopada.
URL:https://osiedlemlodych.pl/wydarzenia/piosenki-z-kuferka-koncert-poznanskich-senioritek/
LOCATION:Dom Kultury „Jędruś”\, os. Armii Krajowej 101\, Poznań\, Wielkopolskie\, 61-381\, Polska
CATEGORIES:DOMY KULTURY,Jędruś
ATTACH;FMTTYPE=image/jpeg:https://osiedlemlodych.pl/wp-content/uploads/2024/10/zdjecie-whatsapp-2024-09-28-o-161324-16bfa34a.jpg
END:VEVENT
END:VCALENDAR