BEGIN:VCALENDAR
VERSION:2.0
PRODID:-//Spółdzielnia Mieszkaniowa Osiedle Młodych - ECPv5.16.4//NONSGML v1.0//EN
CALSCALE:GREGORIAN
METHOD:PUBLISH
X-WR-CALNAME:Spółdzielnia Mieszkaniowa Osiedle Młodych
X-ORIGINAL-URL:https://osiedlemlodych.pl
X-WR-CALDESC:Wydarzenia dla Spółdzielnia Mieszkaniowa Osiedle Młodych
BEGIN:VTIMEZONE
TZID:Europe/Warsaw
BEGIN:DAYLIGHT
TZOFFSETFROM:+0100
TZOFFSETTO:+0200
TZNAME:CEST
DTSTART:20240331T010000
END:DAYLIGHT
BEGIN:STANDARD
TZOFFSETFROM:+0200
TZOFFSETTO:+0100
TZNAME:CET
DTSTART:20241027T010000
END:STANDARD
END:VTIMEZONE
BEGIN:VEVENT
DTSTART;TZID=Europe/Warsaw:20240211T170000
DTEND;TZID=Europe/Warsaw:20240211T183000
DTSTAMP:20260419T174222
CREATED:20240207T195115Z
LAST-MODIFIED:20240207T195115Z
UID:44979-1707670800-1707676200@osiedlemlodych.pl
SUMMARY:PODKOZIOŁEK- Koncert w wykonaniu Zespołu Wrzosy
DESCRIPTION:Zapraszamy na koncert estradowego zespołu seniorów z Poznania- „Wrzosy”.\nZespół powstał  już ponad 40 lat temu z inicjatywy Pani Marii Bartold.\nW latach 1985 – 2014 kierownictwo artystyczne nad zespołem sprawował artysta poznańskiego Teatru Muzycznego Jerzy Golfert. Dzięki niemu zespół osiągnął bardzo wysoki poziom  artystyczny. Aktualnie zespołem kieruje  Piotr Wiza – znany poznański pianista\, kompozytor i aranżer\, który nadal utrzymuje wysoki poziom zespołu. \n  \nPo bezpłatne wejściówki zapraszamy do Domu Kultury „Orle Gniazdo”\, os. Lecha 43\, Poznań. \nRezerwacji wejściówek można dokonywać osobiście\, telefonicznie (tel 618777842) lub mailowo (dkorlegniazdo@gmail.com)
URL:https://osiedlemlodych.pl/wydarzenia/podkoziolek-koncert-w-wykonaniu-zespolu-wrzosy/
LOCATION:Dom Kultury „Orle Gniazdo”\, os. Lecha 43\, Poznań\, Wielkopolskie\, 61-294\, Polska
CATEGORIES:Orle Gniazdo
ATTACH;FMTTYPE=image/jpeg:https://osiedlemlodych.pl/wp-content/uploads/2024/02/maxresdefault.jpg
END:VEVENT
END:VCALENDAR