BEGIN:VCALENDAR
VERSION:2.0
PRODID:-//Spółdzielnia Mieszkaniowa Osiedle Młodych - ECPv5.16.4//NONSGML v1.0//EN
CALSCALE:GREGORIAN
METHOD:PUBLISH
X-WR-CALNAME:Spółdzielnia Mieszkaniowa Osiedle Młodych
X-ORIGINAL-URL:https://osiedlemlodych.pl
X-WR-CALDESC:Wydarzenia dla Spółdzielnia Mieszkaniowa Osiedle Młodych
BEGIN:VTIMEZONE
TZID:Europe/Warsaw
BEGIN:DAYLIGHT
TZOFFSETFROM:+0100
TZOFFSETTO:+0200
TZNAME:CEST
DTSTART:20250330T010000
END:DAYLIGHT
BEGIN:STANDARD
TZOFFSETFROM:+0200
TZOFFSETTO:+0100
TZNAME:CET
DTSTART:20251026T010000
END:STANDARD
END:VTIMEZONE
BEGIN:VEVENT
DTSTART;TZID=Europe/Warsaw:20250214T170000
DTEND;TZID=Europe/Warsaw:20250214T183000
DTSTAMP:20260422T071556
CREATED:20250206T134531Z
LAST-MODIFIED:20250206T134531Z
UID:49889-1739552400-1739557800@osiedlemlodych.pl
SUMMARY:"Pogaduchy o miłości" - spotkanie Walentynkowe dla Seniorów
DESCRIPTION:W programie: \n\nmiłe spotkanie przy kawie i herbacie\,\nwykład i pogawędka tematyczna z zaproszonym gościem\,\nsłuchanie i wspólny śpiew piosenek o miłości.\n\nWysłuchamy i przeanalizujemy takie utwory\, jak: \n\n“Cóż wiemy o miłości” – Trubadurzy\,\n“Baju baj\, proszę pana”- Anna Jantar\,\n“Zabiorę cię własnie tam” – Kancelarya.\n\nWstęp bezpłatny\, obowiązują zapisy telefoniczne lub osobiste.\nLiczba miejsc ograniczona.
URL:https://osiedlemlodych.pl/wydarzenia/pogaduchy-o-milosci-spotkanie-walentynkowe-dla-seniorow/
LOCATION:Dom Kultury „Jagiellonka”
CATEGORIES:Jagiellonka
ATTACH;FMTTYPE=image/png:https://osiedlemlodych.pl/wp-content/uploads/2025/02/walentynki.png
END:VEVENT
END:VCALENDAR