BEGIN:VCALENDAR
VERSION:2.0
PRODID:-//Spółdzielnia Mieszkaniowa Osiedle Młodych - ECPv5.16.4//NONSGML v1.0//EN
CALSCALE:GREGORIAN
METHOD:PUBLISH
X-WR-CALNAME:Spółdzielnia Mieszkaniowa Osiedle Młodych
X-ORIGINAL-URL:https://osiedlemlodych.pl
X-WR-CALDESC:Wydarzenia dla Spółdzielnia Mieszkaniowa Osiedle Młodych
BEGIN:VTIMEZONE
TZID:Europe/Warsaw
BEGIN:DAYLIGHT
TZOFFSETFROM:+0100
TZOFFSETTO:+0200
TZNAME:CEST
DTSTART:20260329T010000
END:DAYLIGHT
BEGIN:STANDARD
TZOFFSETFROM:+0200
TZOFFSETTO:+0100
TZNAME:CET
DTSTART:20261025T010000
END:STANDARD
END:VTIMEZONE
BEGIN:VEVENT
DTSTART;TZID=Europe/Warsaw:20260529T170000
DTEND;TZID=Europe/Warsaw:20260529T170000
DTSTAMP:20260420T023246
CREATED:20260408T102217Z
LAST-MODIFIED:20260408T102217Z
UID:55883-1780074000-1780074000@osiedlemlodych.pl
SUMMARY:POLANkowe COŚ - Bańki mydlane
DESCRIPTION:Zapraszamy dzieci na warsztaty tworzenia baniek mydlanych – pełne magii\, śmiechu i kolorowych uniesień! \nPodczas spotkania uczestnicy odkryją niezwykły świat baniek – tych malutkich\, ogromnych\, pachnących i mieniących się wszystkimi kolorami tęczy! Będziemy puszczać\, łapać i obserwować bańki\, które wirują w powietrzu\, unoszą się lekko jak marzenia i przybierają zaskakujące kształty. \nTo doskonała okazja\, by pobudzić wyobraźnię i  świetnie się bawić! \nNie potrzeba żadnego doświadczenia – wystarczy ciekawość i gotowość na odrobinę bańkowej magii! \nDołączcie do nas i pozwólcie\, by porwał Was świat lekkich jak powietrze baniek! \nZapraszamy serdecznie dzieci w wieku 6–12 lat!29.05.2026 r.\, godz. 17:00Koszt: 60 zł/os.Zapisy: w DK „Polan STO”\, od poniedziałku do piątku w godz. 16:00–20:00
URL:https://osiedlemlodych.pl/wydarzenia/polankowe-cos-banki-mydlane/
LOCATION:DK „Polan Sto”
CATEGORIES:Polan Sto
ATTACH;FMTTYPE=image/jpeg:https://osiedlemlodych.pl/wp-content/uploads/2026/04/p1016678.jpg
END:VEVENT
END:VCALENDAR