BEGIN:VCALENDAR
VERSION:2.0
PRODID:-//Spółdzielnia Mieszkaniowa Osiedle Młodych - ECPv5.16.4//NONSGML v1.0//EN
CALSCALE:GREGORIAN
METHOD:PUBLISH
X-WR-CALNAME:Spółdzielnia Mieszkaniowa Osiedle Młodych
X-ORIGINAL-URL:https://osiedlemlodych.pl
X-WR-CALDESC:Wydarzenia dla Spółdzielnia Mieszkaniowa Osiedle Młodych
BEGIN:VTIMEZONE
TZID:Europe/Warsaw
BEGIN:DAYLIGHT
TZOFFSETFROM:+0100
TZOFFSETTO:+0200
TZNAME:CEST
DTSTART:20250330T010000
END:DAYLIGHT
BEGIN:STANDARD
TZOFFSETFROM:+0200
TZOFFSETTO:+0100
TZNAME:CET
DTSTART:20251026T010000
END:STANDARD
END:VTIMEZONE
BEGIN:VEVENT
DTSTART;TZID=Europe/Warsaw:20251129T100000
DTEND;TZID=Europe/Warsaw:20251129T100000
DTSTAMP:20260422T002842
CREATED:20251002T163747Z
LAST-MODIFIED:20251002T163747Z
UID:53175-1764410400-1764410400@osiedlemlodych.pl
SUMMARY:POLANkowe COŚ – Kalendarze adwentowe
DESCRIPTION:Zapraszamy na najbardziej magiczne warsztaty z cyklu POLANkowe COŚ – KALENDARZE ADWENTOWE! \nJuż w październiku POLANkowe Elfy ruszają do pracy\, by przygotować dla dzieci niepowtarzalne\, 𝐚𝐝𝐰𝐞𝐧𝐭𝐨𝐰𝐞 𝐧𝐢𝐞𝐬𝐩𝐨𝐝𝐳𝐢𝐚𝐧𝐤𝐢\, ciekawe zadania\, specjalnie dedykowane wierszyki\, upominki i smakołyki. Następnie wszystko pakują w 24 małe paczuszki i oto on… 𝐏𝐎𝐋𝐀𝐍𝐤𝐨𝐰𝐲 𝐊𝐀𝐋𝐄𝐍𝐃𝐀𝐑𝐙 𝐀𝐃𝐖𝐄𝐍𝐓𝐎𝐖𝐘!\nA nie\, wróć!! Jeszcze dzieci muszą trochę podziałać! Udekorować\, ozdobić swój wyjątkowy kalendarz adwentowy! \nPrzygotowane zadania umilą czas świątecznego wyczekiwania. Dziecięca radość i świąteczny blask w oczach gwarantowane! \nWarsztaty dla dzieci w wieku 3-5 (z opiekunem) oraz 6-12 lat.. Mile widziane świąteczne barwy i akcenty stylizacjach! \n29.11.2025 r.\, godz.10:00 i 12:00 \nZapisy: tel. 61 8797 151 lub polansto@osiedlemlodych.pl\nKoszt: 100zł.
URL:https://osiedlemlodych.pl/wydarzenia/polankowe-cos-kalendarze-adwentowe-4/
LOCATION:DK „Polan Sto”
CATEGORIES:Polan Sto
ATTACH;FMTTYPE=image/png:https://osiedlemlodych.pl/wp-content/uploads/2025/10/zdjecie-strona110.png
END:VEVENT
END:VCALENDAR