BEGIN:VCALENDAR
VERSION:2.0
PRODID:-//Spółdzielnia Mieszkaniowa Osiedle Młodych - ECPv5.16.4//NONSGML v1.0//EN
CALSCALE:GREGORIAN
METHOD:PUBLISH
X-WR-CALNAME:Spółdzielnia Mieszkaniowa Osiedle Młodych
X-ORIGINAL-URL:https://osiedlemlodych.pl
X-WR-CALDESC:Wydarzenia dla Spółdzielnia Mieszkaniowa Osiedle Młodych
BEGIN:VTIMEZONE
TZID:Europe/Warsaw
BEGIN:DAYLIGHT
TZOFFSETFROM:+0100
TZOFFSETTO:+0200
TZNAME:CEST
DTSTART:20230326T010000
END:DAYLIGHT
BEGIN:STANDARD
TZOFFSETFROM:+0200
TZOFFSETTO:+0100
TZNAME:CET
DTSTART:20231029T010000
END:STANDARD
END:VTIMEZONE
BEGIN:VEVENT
DTSTART;TZID=Europe/Warsaw:20231027T163000
DTEND;TZID=Europe/Warsaw:20231027T193000
DTSTAMP:20260422T020348
CREATED:20230912T170140Z
LAST-MODIFIED:20230912T170140Z
UID:42712-1698424200-1698435000@osiedlemlodych.pl
SUMMARY:POLANkowe COŚ - Lampiony
DESCRIPTION:Łuuuuu\, straaaaasznie się cieszymy na kolejne warsztaty!!! \nA co to za łuna pełna blasku nad klubem się unosi? \nSpotykamy się 27 października na kolejnych warsztatach w ramach POLANkowego Cosia:) i będziemy kroić\, drążyć\, wycinać\, ale i … Bo czy tematem przewodnim tego spotkania będzie dynia czy jednak może bardziej lampion\, to się okaże! Przybywajcie\, przekonacie się! Do zobaczenia na warsztatach\, starujemy 16:30\, druga grupa 18:00. \nZapisy w DK „Polan STO”\, tel. 618 797 151\, od pn. do pt. w godz. 16:00 – 20:00\, koszt 50zł.
URL:https://osiedlemlodych.pl/wydarzenia/polankowe-cos-lampiony-2/
LOCATION:DK „Polan Sto”
CATEGORIES:Polan Sto
ATTACH;FMTTYPE=image/png:https://osiedlemlodych.pl/wp-content/uploads/2023/09/lampionn.png
END:VEVENT
END:VCALENDAR