BEGIN:VCALENDAR
VERSION:2.0
PRODID:-//Spółdzielnia Mieszkaniowa Osiedle Młodych - ECPv5.16.4//NONSGML v1.0//EN
CALSCALE:GREGORIAN
METHOD:PUBLISH
X-WR-CALNAME:Spółdzielnia Mieszkaniowa Osiedle Młodych
X-ORIGINAL-URL:https://osiedlemlodych.pl
X-WR-CALDESC:Wydarzenia dla Spółdzielnia Mieszkaniowa Osiedle Młodych
BEGIN:VTIMEZONE
TZID:Europe/Warsaw
BEGIN:DAYLIGHT
TZOFFSETFROM:+0100
TZOFFSETTO:+0200
TZNAME:CEST
DTSTART:20220327T010000
END:DAYLIGHT
BEGIN:STANDARD
TZOFFSETFROM:+0200
TZOFFSETTO:+0100
TZNAME:CET
DTSTART:20221030T010000
END:STANDARD
END:VTIMEZONE
BEGIN:VEVENT
DTSTART;TZID=Europe/Warsaw:20220422T163000
DTEND;TZID=Europe/Warsaw:20220422T193000
DTSTAMP:20260422T034727
CREATED:20220405T181618Z
LAST-MODIFIED:20220405T181836Z
UID:34159-1650645000-1650655800@osiedlemlodych.pl
SUMMARY:POLANkowe COŚ - Las w słoiku
DESCRIPTION:Kwietniowe warsztaty w ramach cyklicznych spotkań „POLANkowe COŚ”\, to tym razem wyprawa do lasu:) \nTak naprawdę\, to jeszcze lepiej! Las będzie można zabrać do domu! \nSamodzielna produkcja zielonej cząstki ziemi z całą pewnością będzie cieszyć oko\, wprowadzi odrobinę dyscypliny\, bo trzeba o nią odpowiednio zadbać\, a przede wszystkim wywoła radość wśród dzielnych\, młodych ogrodników!!! \n 
URL:https://osiedlemlodych.pl/wydarzenia/polankowe-cos-las-w-sloiku/
CATEGORIES:Polan Sto
ATTACH;FMTTYPE=image/png:https://osiedlemlodych.pl/wp-content/uploads/2022/04/sloik.png
END:VEVENT
END:VCALENDAR