BEGIN:VCALENDAR
VERSION:2.0
PRODID:-//Spółdzielnia Mieszkaniowa Osiedle Młodych - ECPv5.16.4//NONSGML v1.0//EN
CALSCALE:GREGORIAN
METHOD:PUBLISH
X-WR-CALNAME:Spółdzielnia Mieszkaniowa Osiedle Młodych
X-ORIGINAL-URL:https://osiedlemlodych.pl
X-WR-CALDESC:Wydarzenia dla Spółdzielnia Mieszkaniowa Osiedle Młodych
BEGIN:VTIMEZONE
TZID:Europe/Warsaw
BEGIN:DAYLIGHT
TZOFFSETFROM:+0100
TZOFFSETTO:+0200
TZNAME:CEST
DTSTART:20230326T010000
END:DAYLIGHT
BEGIN:STANDARD
TZOFFSETFROM:+0200
TZOFFSETTO:+0100
TZNAME:CET
DTSTART:20231029T010000
END:STANDARD
END:VTIMEZONE
BEGIN:VEVENT
DTSTART;TZID=Europe/Warsaw:20230331T163000
DTEND;TZID=Europe/Warsaw:20230331T193000
DTSTAMP:20260423T043018
CREATED:20230207T102726Z
LAST-MODIFIED:20230207T102726Z
UID:38593-1680280200-1680291000@osiedlemlodych.pl
SUMMARY:POLANkowe COŚ - wieńce
DESCRIPTION:Święta\, święta tuż\, tuż… Wielkanoc zbliża się wielkimi krokami i już dziś pragniemy zaprosić wszystkich stałych bywalców i nowych\, ciekawskich kreatywnych wytworów uczestników na warsztaty POLANkowe COŚ\, które poświęcone będą wieńcom wielkanocnym. Tylko wyobraźnia może nas ograniczać przy doborze materiałów\, tak by własnoręcznie wykonany wieniec mógł zagościć w Waszych domach. Czy będzie jednokolorowy? Czy tez wielobarwny? Czy będzie coś z niego zwisać? Czy może będzie wplecione między… no właśnie między co? Zapraszamy na warsztaty 31 marca na godzinę 16:30 lub 18:00\, koszt 50zł.
URL:https://osiedlemlodych.pl/wydarzenia/polankowe-cos-wience/
LOCATION:DK „Polan Sto”
CATEGORIES:Polan Sto
ATTACH;FMTTYPE=image/png:https://osiedlemlodych.pl/wp-content/uploads/2023/02/polankowe-cos-wieniec.png
END:VEVENT
END:VCALENDAR