BEGIN:VCALENDAR
VERSION:2.0
PRODID:-//Spółdzielnia Mieszkaniowa Osiedle Młodych - ECPv5.16.4//NONSGML v1.0//EN
CALSCALE:GREGORIAN
METHOD:PUBLISH
X-WR-CALNAME:Spółdzielnia Mieszkaniowa Osiedle Młodych
X-ORIGINAL-URL:https://osiedlemlodych.pl
X-WR-CALDESC:Wydarzenia dla Spółdzielnia Mieszkaniowa Osiedle Młodych
BEGIN:VTIMEZONE
TZID:Europe/Warsaw
BEGIN:DAYLIGHT
TZOFFSETFROM:+0100
TZOFFSETTO:+0200
TZNAME:CEST
DTSTART:20240331T010000
END:DAYLIGHT
BEGIN:STANDARD
TZOFFSETFROM:+0200
TZOFFSETTO:+0100
TZNAME:CET
DTSTART:20241027T010000
END:STANDARD
END:VTIMEZONE
BEGIN:VEVENT
DTSTART;TZID=Europe/Warsaw:20240315T163000
DTEND;TZID=Europe/Warsaw:20240315T193000
DTSTAMP:20260422T160638
CREATED:20240207T211612Z
LAST-MODIFIED:20240207T213651Z
UID:44987-1710520200-1710531000@osiedlemlodych.pl
SUMMARY:POLANkowe COŚ - Wiosenne ogródki
DESCRIPTION:Pierwsze przebiśniegi już kwitną\, a krokusy coraz śmielej wychodzą z ziemi!\nNie PRZESADZIMY zatem stwierdzając\, że WIOSNA już blisko?\nPrzesadzimy czy też nie\, ale na pewno COŚ POSADZIMY! A dokładnie bratki\, stokrotki\, szafirki i inne wiosenne cuda natury. A wszystko w naszym POLANkowym\, kreatywnym stylu\, więc nastawcie się\, że nudy nie będzie!!\nMowa oczywiście o nadchodzących warsztatach artystycznych z cyklu „POLANkowe COŚ”. Tym razem w wersji ogrodniczej! Każdy uczestnik wyjdzie z klubu z piękną donicą z wiosennymi nasadzeniami i niebanalnymi dekoracjami! Zapraszamy! \n  \nZapraszamy dzieci na warsztaty na godzinę 16:30 lub 18:00\, koszt 50zł. \nZapisy w DK „Polan STO”\, tel. 61 8797 151\, w godz. 16:00 – 20:00 od pn. do pt. \n 
URL:https://osiedlemlodych.pl/wydarzenia/polankowe-cos-wiosenne-ogrodki/
CATEGORIES:Polan Sto
ATTACH;FMTTYPE=image/png:https://osiedlemlodych.pl/wp-content/uploads/2024/02/zdjecie-strona1.png
END:VEVENT
END:VCALENDAR