BEGIN:VCALENDAR
VERSION:2.0
PRODID:-//Spółdzielnia Mieszkaniowa Osiedle Młodych - ECPv5.16.4//NONSGML v1.0//EN
CALSCALE:GREGORIAN
METHOD:PUBLISH
X-WR-CALNAME:Spółdzielnia Mieszkaniowa Osiedle Młodych
X-ORIGINAL-URL:https://osiedlemlodych.pl
X-WR-CALDESC:Wydarzenia dla Spółdzielnia Mieszkaniowa Osiedle Młodych
BEGIN:VTIMEZONE
TZID:Europe/Warsaw
BEGIN:DAYLIGHT
TZOFFSETFROM:+0100
TZOFFSETTO:+0200
TZNAME:CEST
DTSTART:20260329T010000
END:DAYLIGHT
BEGIN:STANDARD
TZOFFSETFROM:+0200
TZOFFSETTO:+0100
TZNAME:CET
DTSTART:20261025T010000
END:STANDARD
END:VTIMEZONE
BEGIN:VEVENT
DTSTART;TZID=Europe/Warsaw:20260116T170000
DTEND;TZID=Europe/Warsaw:20260116T170000
DTSTAMP:20260422T020337
CREATED:20251208T083058Z
LAST-MODIFIED:20260109T175621Z
UID:54167-1768582800-1768582800@osiedlemlodych.pl
SUMMARY:POLANkowe COŚ - Zegary
DESCRIPTION:Pierwsze w 2026 roku kreatywne warsztaty dla dzieci! Hurra!  Zaczniemy od wykonania pięknych\, ozdobnych zegarów\, które być może pomogą dzieciom w dobrym zarządzaniu swoim czasem 😉 \nWarsztaty dla dzieci w wieku 6-12 lat. \n16.01.2026 r. – 17:00 \nZapisy: tel. 61 8797 151 lub polansto@osiedlemlodych.pl\nKoszt: 60zł.
URL:https://osiedlemlodych.pl/wydarzenia/polankowe-cos-zegary/
LOCATION:DK „Polan Sto”
CATEGORIES:Polan Sto
ATTACH;FMTTYPE=image/png:https://osiedlemlodych.pl/wp-content/uploads/2025/12/zdjecie-strona38.png
END:VEVENT
END:VCALENDAR