BEGIN:VCALENDAR
VERSION:2.0
PRODID:-//Spółdzielnia Mieszkaniowa Osiedle Młodych - ECPv5.16.4//NONSGML v1.0//EN
CALSCALE:GREGORIAN
METHOD:PUBLISH
X-WR-CALNAME:Spółdzielnia Mieszkaniowa Osiedle Młodych
X-ORIGINAL-URL:https://osiedlemlodych.pl
X-WR-CALDESC:Wydarzenia dla Spółdzielnia Mieszkaniowa Osiedle Młodych
BEGIN:VTIMEZONE
TZID:Europe/Warsaw
BEGIN:DAYLIGHT
TZOFFSETFROM:+0100
TZOFFSETTO:+0200
TZNAME:CEST
DTSTART:20220327T010000
END:DAYLIGHT
BEGIN:STANDARD
TZOFFSETFROM:+0200
TZOFFSETTO:+0100
TZNAME:CET
DTSTART:20221030T010000
END:STANDARD
END:VTIMEZONE
BEGIN:VEVENT
DTSTART;TZID=Europe/Warsaw:20221216T163000
DTEND;TZID=Europe/Warsaw:20221216T190000
DTSTAMP:20260422T090115
CREATED:20221206T080408Z
LAST-MODIFIED:20221206T080408Z
UID:37720-1671208200-1671217200@osiedlemlodych.pl
SUMMARY:Poszukiwanie Gwiazdora
DESCRIPTION:Jak co roku „Na Rusa”\, Gwiazdor robi nam psikusa 😉 Jeśli męczy Cię już w domu siedzenie\, dołącz do naszej zabawy w terenie! \nNa osiedlu Rusa ukrywa się Gwiazdor. Nie zostało nam wiele czasu na jego odnalezienie\, dlatego potrzebujemy waszej pomocy! \nZbierzcie swoją drużynę i do 12 grudnia wyślijcie sms pod nr. tel.: 695-151-659 w treści podając NAZWĘ DRUŻYNY. Zjawcie się w określonym punkcie i o określonej godzinie – podanej w wiadomości- 16 grudnia. \nZapraszamy do wspólnej terenowej zabawy!
URL:https://osiedlemlodych.pl/wydarzenia/poszukiwanie-gwiazdora-2/
LOCATION:Osiedle Rusa\, os. Rusa\, Poznań\, Wielkopolskie\, 61-245\, Poland
CATEGORIES:Placówki Kulturalne "Na Rusa"
ATTACH;FMTTYPE=image/jpeg:https://osiedlemlodych.pl/wp-content/uploads/2022/12/santa-claus-g0493c69b3-1920.jpg
END:VEVENT
END:VCALENDAR