BEGIN:VCALENDAR
VERSION:2.0
PRODID:-//Spółdzielnia Mieszkaniowa Osiedle Młodych - ECPv5.16.4//NONSGML v1.0//EN
CALSCALE:GREGORIAN
METHOD:PUBLISH
X-WR-CALNAME:Spółdzielnia Mieszkaniowa Osiedle Młodych
X-ORIGINAL-URL:https://osiedlemlodych.pl
X-WR-CALDESC:Wydarzenia dla Spółdzielnia Mieszkaniowa Osiedle Młodych
BEGIN:VTIMEZONE
TZID:Europe/Warsaw
BEGIN:DAYLIGHT
TZOFFSETFROM:+0100
TZOFFSETTO:+0200
TZNAME:CEST
DTSTART:20240331T010000
END:DAYLIGHT
BEGIN:STANDARD
TZOFFSETFROM:+0200
TZOFFSETTO:+0100
TZNAME:CET
DTSTART:20241027T010000
END:STANDARD
END:VTIMEZONE
BEGIN:VEVENT
DTSTART;TZID=Europe/Warsaw:20240518T170000
DTEND;TZID=Europe/Warsaw:20240518T200000
DTSTAMP:20260421T120704
CREATED:20240430T133950Z
LAST-MODIFIED:20240430T133950Z
UID:46466-1716051600-1716062400@osiedlemlodych.pl
SUMMARY:Potańcówka dla Seniorów
DESCRIPTION:Zapraszamy serdecznie na taneczne wydarzenie. \nW programie: \n\nzabawa taneczna przy muzyce puszczanej przez DJ-a\npoczęstunek\nkonkursy taneczne z nagrodami\n\nBezpłatne wejściówki dostępne od 29 kwietnia w biurze DK „Jubilat” od poniedziałku do piątku w godzinach 16.00-20.00. \nZapisy telefoniczne pod numerami 61 876 08 40 i 601 781 065 oraz mailowe jubilat@osiedlemlodych.pl. \nWydarzenie sfinansowano ze środków budżetowych Miasta Poznania. \n#poznanwspiera \n 
URL:https://osiedlemlodych.pl/wydarzenia/potancowka-dla-seniorow-2/
LOCATION:Dom Kultury „Jubilat”\, os. Tysiąclecia 30\, Poznań\, wielkopolskie\, 61-255\, Polska
CATEGORIES:Jubilat
ATTACH;FMTTYPE=image/jpeg:https://osiedlemlodych.pl/wp-content/uploads/2024/04/emotional-50309-1280.jpg
END:VEVENT
END:VCALENDAR