BEGIN:VCALENDAR
VERSION:2.0
PRODID:-//Spółdzielnia Mieszkaniowa Osiedle Młodych - ECPv5.16.4//NONSGML v1.0//EN
CALSCALE:GREGORIAN
METHOD:PUBLISH
X-WR-CALNAME:Spółdzielnia Mieszkaniowa Osiedle Młodych
X-ORIGINAL-URL:https://osiedlemlodych.pl
X-WR-CALDESC:Wydarzenia dla Spółdzielnia Mieszkaniowa Osiedle Młodych
BEGIN:VTIMEZONE
TZID:Europe/Warsaw
BEGIN:DAYLIGHT
TZOFFSETFROM:+0100
TZOFFSETTO:+0200
TZNAME:CEST
DTSTART:20240331T010000
END:DAYLIGHT
BEGIN:STANDARD
TZOFFSETFROM:+0200
TZOFFSETTO:+0100
TZNAME:CET
DTSTART:20241027T010000
END:STANDARD
END:VTIMEZONE
BEGIN:VEVENT
DTSTART;TZID=Europe/Warsaw:20240405T180000
DTEND;TZID=Europe/Warsaw:20240405T193000
DTSTAMP:20260420T013058
CREATED:20240306T130004Z
LAST-MODIFIED:20240306T130004Z
UID:45490-1712340000-1712345400@osiedlemlodych.pl
SUMMARY:Poznaj moc olejków eterycznych – warsztaty
DESCRIPTION:Poznaj moc olejków eterycznych. Dowiedz się czym są olejki eteryczne oraz jak stosować je dla zdrowia\, emocji i urody. \n\nPodczas warsztatów olejkowych dowiesz się:\n Co to są olejki eteryczne i dlaczego warto zwracać uwagę na ich jakość?\n Które olejki warto mieć w domu\, aby wspomagać swoje zdrowie i samopoczucie?\n Jak skutecznie radzić sobie z infekcjami\, stresem oraz bólem\, korzystając z mocy natury?\n Jak wspierać zdrowy\, regenerujący sen\, ukoić nerwy i dodać sobie naturalnej energii?\n Jak używać olejków eterycznych bezpiecznie i skutecznie?\n\n\n\n Każdy uczestnik otrzyma 2 mini buteleczki naturalnych olejków eterycznych!\nWarsztaty poprowadzi Joanna Staszak.\n\n\n\n\nIlość miejsc ograniczona!\n𝗭𝗔𝗣𝗜𝗦𝗬: tel. 603776902
URL:https://osiedlemlodych.pl/wydarzenia/poznaj-moc-olejkow-eterycznych-warsztaty-2/
LOCATION:DK „Polan Sto”
CATEGORIES:Polan Sto
ATTACH;FMTTYPE=image/png:https://osiedlemlodych.pl/wp-content/uploads/2024/03/zdjecie-strona19.png
END:VEVENT
END:VCALENDAR