BEGIN:VCALENDAR
VERSION:2.0
PRODID:-//Spółdzielnia Mieszkaniowa Osiedle Młodych - ECPv5.16.4//NONSGML v1.0//EN
CALSCALE:GREGORIAN
METHOD:PUBLISH
X-WR-CALNAME:Spółdzielnia Mieszkaniowa Osiedle Młodych
X-ORIGINAL-URL:https://osiedlemlodych.pl
X-WR-CALDESC:Wydarzenia dla Spółdzielnia Mieszkaniowa Osiedle Młodych
BEGIN:VTIMEZONE
TZID:Europe/Warsaw
BEGIN:DAYLIGHT
TZOFFSETFROM:+0100
TZOFFSETTO:+0200
TZNAME:CEST
DTSTART:20250330T010000
END:DAYLIGHT
BEGIN:STANDARD
TZOFFSETFROM:+0200
TZOFFSETTO:+0100
TZNAME:CET
DTSTART:20251026T010000
END:STANDARD
END:VTIMEZONE
BEGIN:VEVENT
DTSTART;TZID=Europe/Warsaw:20251211T100000
DTEND;TZID=Europe/Warsaw:20251211T113000
DTSTAMP:20260422T074912
CREATED:20251112T204742Z
LAST-MODIFIED:20251112T204742Z
UID:53752-1765447200-1765452600@osiedlemlodych.pl
SUMMARY:Przegląd Piosenki dla dzieci w wieku przedszkolnym
DESCRIPTION:Wyjątkowe wydrzenie muzyczne organizowne w ramach projektu ” Bliżej Kultury\, Bliżej Siebie” realizowane przez Stowarzyszenie Ratajskie Centrum Kulutry. \nNa scenie zaprezentują się dzieci z przedszkoli\, które z gromnym zaangażowaniem i odwagą zaprezentują swoje muzyczne talenty. \nDla wielu z nich będzie to pierwszy prawdziwy wsystęp na dużej scenie! Doskonała okazja aby wspierać najmłodszych artystów\, rozwijać ich pasję i wspólnie cieszyć się niezwykłą muzyczną atmosferą! \nSerdecznie zapraszamy do wspólnego przeżywania i wspierania młodych wokalistów! \nZgłoszenia przyjmowane do 1 grudnia na : olimp@osiedlemlodych.pl  \nUdział bezpłatny!
URL:https://osiedlemlodych.pl/wydarzenia/przeglad-piosenki-dla-dzieci-w-wieku-przedszkolnym/
LOCATION:Dom Kultury „Jubilat”\, os. Tysiąclecia 30\, Poznań\, wielkopolskie\, 61-255\, Polska
CATEGORIES:Placówki Kulturalne "Na Rusa"
ATTACH;FMTTYPE=image/png:https://osiedlemlodych.pl/wp-content/uploads/2017/02/dziecispiewaja1.png
END:VEVENT
END:VCALENDAR