BEGIN:VCALENDAR
VERSION:2.0
PRODID:-//Spółdzielnia Mieszkaniowa Osiedle Młodych - ECPv5.16.4//NONSGML v1.0//EN
CALSCALE:GREGORIAN
METHOD:PUBLISH
X-WR-CALNAME:Spółdzielnia Mieszkaniowa Osiedle Młodych
X-ORIGINAL-URL:https://osiedlemlodych.pl
X-WR-CALDESC:Wydarzenia dla Spółdzielnia Mieszkaniowa Osiedle Młodych
BEGIN:VTIMEZONE
TZID:Europe/Warsaw
BEGIN:DAYLIGHT
TZOFFSETFROM:+0100
TZOFFSETTO:+0200
TZNAME:CEST
DTSTART:20260329T010000
END:DAYLIGHT
BEGIN:STANDARD
TZOFFSETFROM:+0200
TZOFFSETTO:+0100
TZNAME:CET
DTSTART:20261025T010000
END:STANDARD
END:VTIMEZONE
BEGIN:VEVENT
DTSTART;TZID=Europe/Warsaw:20260321T160000
DTEND;TZID=Europe/Warsaw:20260321T170000
DTSTAMP:20260421T145634
CREATED:20260303T140610Z
LAST-MODIFIED:20260316T084948Z
UID:55269-1774108800-1774112400@osiedlemlodych.pl
SUMMARY:"Przestrzenie podróży - czas na kolej" - wystawa fotografii Romana Paula
DESCRIPTION:W Roku Polskiej Kolei prezentujemy wystawę fotografii poświęconą światu torów\, peronów i architektury kolejowej. Autorem prac jest Roman Paul – pasjonat fotografii oraz znawca historii kolejnictwa. \nW obiektywie autora zobaczymy: monumentalne i kameralne dworce\, detale architektoniczne i infrastrukturę torową\, zabytkowe obiekty kolejowe – świadków minionych epok. \nFotografie Romana Paula to nie tylko dokumentacja techniczna\, ale także opowieść o przemijaniu i pamięci zapisanej w murach dworców oraz stalowych konstrukcjach. Autor wydobywa z pozornie surowych przestrzeni ich estetykę i symbolikę. \nWystawa wpisuje się w obchody jubileuszu 100-lecia powołania przedsiębiorstwa Polskie Koleje Państwowe.\nTo zaproszenie do podróży — nie tylko w przestrzeni\, ale i w czasie.
URL:https://osiedlemlodych.pl/wydarzenia/przestrzenie-podrozy-czas-na-kolej-wystawa-fotografii-romana-paula/
LOCATION:Dom Kultury „Jędruś”\, os. Armii Krajowej 101\, Poznań\, Wielkopolskie\, 61-381\, Polska
CATEGORIES:Jędruś
ATTACH;FMTTYPE=image/jpeg:https://osiedlemlodych.pl/wp-content/uploads/2026/03/kolej.jpg
END:VEVENT
END:VCALENDAR