BEGIN:VCALENDAR
VERSION:2.0
PRODID:-//Spółdzielnia Mieszkaniowa Osiedle Młodych - ECPv5.16.4//NONSGML v1.0//EN
CALSCALE:GREGORIAN
METHOD:PUBLISH
X-WR-CALNAME:Spółdzielnia Mieszkaniowa Osiedle Młodych
X-ORIGINAL-URL:https://osiedlemlodych.pl
X-WR-CALDESC:Wydarzenia dla Spółdzielnia Mieszkaniowa Osiedle Młodych
BEGIN:VTIMEZONE
TZID:Europe/Warsaw
BEGIN:DAYLIGHT
TZOFFSETFROM:+0100
TZOFFSETTO:+0200
TZNAME:CEST
DTSTART:20230326T010000
END:DAYLIGHT
BEGIN:STANDARD
TZOFFSETFROM:+0200
TZOFFSETTO:+0100
TZNAME:CET
DTSTART:20231029T010000
END:STANDARD
END:VTIMEZONE
BEGIN:VEVENT
DTSTART;TZID=Europe/Warsaw:20230602T170000
DTEND;TZID=Europe/Warsaw:20230602T190000
DTSTAMP:20260422T123108
CREATED:20230509T134026Z
LAST-MODIFIED:20230530T163340Z
UID:40114-1685725200-1685732400@osiedlemlodych.pl
SUMMARY:Przetrwanie na POLANie - survival - finał !!!
DESCRIPTION:Do lasuuuu\, narobić… kiełbasek na ognisku:) Jednak na POLANę!!!!!! \nDzieli i wytrwali POLANkowi Survivalowcy\, wyszkoleni i przeszkoleni\, wyruszą na spotkanie z leśną przygodą\, by pod okiem zaprzyjaźnionych leśników zdobyć kolejną\, namacalną wiedzę ! \nKończąc naszą\, prawie roczną przygodę z survivalem zapraszamy wszystkich uczestników warsztatów na ognisko\, które najpierw samemu będzie trzeba przygotować\, a następnie rozpalić!. \nStart godz. 17:00 w DK „Polan STO” \nKoszt: 40zł
URL:https://osiedlemlodych.pl/wydarzenia/przetrwanie-na-polanie-survival-final/
LOCATION:DK „Polan Sto”
CATEGORIES:Polan Sto
ATTACH;FMTTYPE=image/png:https://osiedlemlodych.pl/wp-content/uploads/2023/04/las-ognisko.png
END:VEVENT
END:VCALENDAR