BEGIN:VCALENDAR
VERSION:2.0
PRODID:-//Spółdzielnia Mieszkaniowa Osiedle Młodych - ECPv5.16.4//NONSGML v1.0//EN
CALSCALE:GREGORIAN
METHOD:PUBLISH
X-WR-CALNAME:Spółdzielnia Mieszkaniowa Osiedle Młodych
X-ORIGINAL-URL:https://osiedlemlodych.pl
X-WR-CALDESC:Wydarzenia dla Spółdzielnia Mieszkaniowa Osiedle Młodych
BEGIN:VTIMEZONE
TZID:Europe/Warsaw
BEGIN:DAYLIGHT
TZOFFSETFROM:+0100
TZOFFSETTO:+0200
TZNAME:CEST
DTSTART:20250330T010000
END:DAYLIGHT
BEGIN:STANDARD
TZOFFSETFROM:+0200
TZOFFSETTO:+0100
TZNAME:CET
DTSTART:20251026T010000
END:STANDARD
END:VTIMEZONE
BEGIN:VEVENT
DTSTART;TZID=Europe/Warsaw:20251205T170000
DTEND;TZID=Europe/Warsaw:20251205T180000
DTSTAMP:20260421T225708
CREATED:20251115T094509Z
LAST-MODIFIED:20251117T133939Z
UID:53798-1764954000-1764957600@osiedlemlodych.pl
SUMMARY:Ratajski Przystanek Seniora: Warsztaty decoupage dla seniorów
DESCRIPTION:W ramach cyklu Ratajski Przystanek Seniora zapraszamy z Ratajskim Centrum Kultury i Stowarzyszeniem Zielona Grupa na warsztaty decoupage dla seniorów. \nBędzie to kreatywne spotkanie podczas którego seniorzy będą mogli nauczyć się podstaw tej techniki. W trakcie zajęć (poprzez naklejanie wzorów z papieru bądź serwetek) uczestnicy ozdobią przedmioty codziennego użytku. To idealna okazja do stworzenia upominku dla bliskiej osoby lub dekoracji do domu. \nWydarzenie odbędzie się w ramach cyklu Ratajski Przystanek Seniora. Jego organizatorem jest Ratajskie Centrum Kultury\, partnerzy to ratajskie Domy Kultury Spółdzielnia Mieszkaniowa „Osiedle Młodych” w Poznaniu. Projekt dofinansowano ze środków budżetowych Miasta Poznania. \n DK „Na Pięterku”\n 5 grudnia 2025 r.\n 17:00\n Informacje i zapisy od 24 listopada: DK „Na Pięterku”\n Bezpłatnie \nLiczba miejsc ograniczona. Decyduje kolejność zgłoszeń.
URL:https://osiedlemlodych.pl/wydarzenia/ratajski-przystanek-seniora-warsztaty-decoupage-dla-seniorow/
LOCATION:DK „Na Pięterku”\, os. Orła Białego 5\, Poznań
CATEGORIES:Na pięterku
ATTACH;FMTTYPE=image/png:https://osiedlemlodych.pl/wp-content/uploads/2025/11/rck-ratajski-przystanek-seniora-rps.png
END:VEVENT
END:VCALENDAR