BEGIN:VCALENDAR
VERSION:2.0
PRODID:-//Spółdzielnia Mieszkaniowa Osiedle Młodych - ECPv5.16.4//NONSGML v1.0//EN
CALSCALE:GREGORIAN
METHOD:PUBLISH
X-WR-CALNAME:Spółdzielnia Mieszkaniowa Osiedle Młodych
X-ORIGINAL-URL:https://osiedlemlodych.pl
X-WR-CALDESC:Wydarzenia dla Spółdzielnia Mieszkaniowa Osiedle Młodych
BEGIN:VTIMEZONE
TZID:Europe/Warsaw
BEGIN:DAYLIGHT
TZOFFSETFROM:+0100
TZOFFSETTO:+0200
TZNAME:CEST
DTSTART:20260329T010000
END:DAYLIGHT
BEGIN:STANDARD
TZOFFSETFROM:+0200
TZOFFSETTO:+0100
TZNAME:CET
DTSTART:20261025T010000
END:STANDARD
END:VTIMEZONE
BEGIN:VEVENT
DTSTART;TZID=Europe/Warsaw:20260518T150000
DTEND;TZID=Europe/Warsaw:20260518T163000
DTSTAMP:20260419T160440
CREATED:20250415T134003Z
LAST-MODIFIED:20260401T124917Z
UID:51041-1779116400-1779121800@osiedlemlodych.pl
SUMMARY:Ratajskie Śpiewanki na wiosenną nutę w ramach cyklu Ratajski Przystanek Seniora
DESCRIPTION:Zapraszamy Seniorki i Seniorów na wyjątkowe warsztaty wokalno-muzyczne! \nW programie: nauka piosenek oraz wspólne śpiewanie z Chórem Poznańskie Senioritki\, przy akompaniamencie fortepianu.\nMotywem przewodnim spotkania będą utwory inspirowane wiosną.\nZachęcamy do założenia wiosennych strojów oraz przyniesienia kolorowych atrybutów\, które wprowadzą nas w radosny nastrój! \nWarsztaty poprowadzi Ewa Wodzyńska – absolwentka wydziału Edukacji Muzycznej i Dyrygentury Chóralnej Akademii Muzycznej w Poznaniu. Animatorka życia kulturalnego w Poznaniu i Kórniku\, od kilkunastu lat prowadzi różnorodne zajęcia muzyczne\, audycje i koncerty dla dzieci\, młodzieży i dorosłych w szkołach oraz ośrodkach kultury w całej Wielkopolsce; instruktor muzyczny na\nletnich obozach dla seniorów w USA. Obecnie prowadzi 4 zespoły wokalne. Jej najważniejszy projekt to Chór Kameralny Poznańskie Senioritki. Chór powstał w 2014 roku\, skupiając panie w wieku senioralnym z całego Poznania i okolic. Główna idea\, jaka przyświeca chórowi to czerpanie radości ze wspólnego muzykowania i dzielenie się tą radością z innymi. Zespół\, dzięki ogromnemu zaangażowaniu chórzystek i dyrygentki oraz ogromnej dbałości o szczegóły wykonawcze rozwija się zajmując coraz wyższe lokaty na festiwalach i konkursach chóralnych. \nWydarzenie odbędzie się w ramach cyklu Ratajski Przystanek Seniora\, którego organizatorem jest Stowarzyszenie Ratajskie Centrum Kultury.\nSfinansowano ze środków budżetowych Miasta Poznania.\n#poznanwspiera \nNa wydarzenie obowiązują zapisy\n– telefoniczne: 618770151\n– mailowe: jedrus@osiedlemlodych.pl
URL:https://osiedlemlodych.pl/wydarzenia/ratajskie-spiewanki-z-okazji-dnia-matki-w-ramach-cyklu-ratajski-przystanek-seniora/
LOCATION:Dom Kultury „Jędruś”\, os. Armii Krajowej 101\, Poznań\, Wielkopolskie\, 61-381\, Polska
CATEGORIES:DOMY KULTURY,Jędruś
ATTACH;FMTTYPE=image/png:https://osiedlemlodych.pl/wp-content/uploads/2022/03/kwiaty.png
END:VEVENT
END:VCALENDAR