BEGIN:VCALENDAR
VERSION:2.0
PRODID:-//Spółdzielnia Mieszkaniowa Osiedle Młodych - ECPv5.16.4//NONSGML v1.0//EN
CALSCALE:GREGORIAN
METHOD:PUBLISH
X-WR-CALNAME:Spółdzielnia Mieszkaniowa Osiedle Młodych
X-ORIGINAL-URL:https://osiedlemlodych.pl
X-WR-CALDESC:Wydarzenia dla Spółdzielnia Mieszkaniowa Osiedle Młodych
BEGIN:VTIMEZONE
TZID:Europe/Warsaw
BEGIN:DAYLIGHT
TZOFFSETFROM:+0100
TZOFFSETTO:+0200
TZNAME:CEST
DTSTART:20240331T010000
END:DAYLIGHT
BEGIN:STANDARD
TZOFFSETFROM:+0200
TZOFFSETTO:+0100
TZNAME:CET
DTSTART:20241027T010000
END:STANDARD
END:VTIMEZONE
BEGIN:VEVENT
DTSTART;TZID=Europe/Warsaw:20241008T160000
DTEND;TZID=Europe/Warsaw:20241008T170000
DTSTAMP:20260423T153102
CREATED:20241002T165952Z
LAST-MODIFIED:20241002T170640Z
UID:48169-1728403200-1728406800@osiedlemlodych.pl
SUMMARY:Retro Koncert z okazji Dnia Seniora
DESCRIPTION:Święto Seniora obchodzimy aż 3 razy w roku – w czasie Ogólnopolskiego\,Europejskiego i Międzynarodowego Dnia Seniora. Ważni są w tym czasie właśnie osoby starsze\, które szczególnie potrzebują naszej uwagi.\n\n\n\nZ tej okazji mamy dla Kochanych Seniorów Retro Koncert z okazji Dnia Seniora\, który odbędzie się 8 października o godz. 16.00 \n\n\n\nCzego można się spodziewać ?\n\n\n\nSamych znakomitości\, a mianowicie przepięknego wokalu z akompaniamentem saksofonów \n\n\n\nNie zabraknie również słodkiego poczęstunku oraz przepysznej kawy i herbaty \n\n\n\nBezpłatne wejściówki do odebrania w biurze Domu Kultury „Jubilat” od poniedziałku do piątku w godzinach 16.00-20.00 \n\n\n\nAktywizację zorganizowała Fundacja Edukacja Plus\n\n\n\nSfinansowano ze środków budżetowych Miasta Poznania z puli Rady Osiedla Chartowo \n\n\n\n#poznanwspiera
URL:https://osiedlemlodych.pl/wydarzenia/retro-koncert-z-okazji-dnia-seniora/
LOCATION:Dom Kultury „Jubilat”\, os. Tysiąclecia 30\, Poznań\, wielkopolskie\, 61-255\, Polska
CATEGORIES:Jubilat
ATTACH;FMTTYPE=application/pdf:https://osiedlemlodych.pl/wp-content/uploads/2024/10/women-8803825-12801.pdf
END:VEVENT
END:VCALENDAR