BEGIN:VCALENDAR
VERSION:2.0
PRODID:-//Spółdzielnia Mieszkaniowa Osiedle Młodych - ECPv5.16.4//NONSGML v1.0//EN
CALSCALE:GREGORIAN
METHOD:PUBLISH
X-WR-CALNAME:Spółdzielnia Mieszkaniowa Osiedle Młodych
X-ORIGINAL-URL:https://osiedlemlodych.pl
X-WR-CALDESC:Wydarzenia dla Spółdzielnia Mieszkaniowa Osiedle Młodych
BEGIN:VTIMEZONE
TZID:Europe/Warsaw
BEGIN:DAYLIGHT
TZOFFSETFROM:+0100
TZOFFSETTO:+0200
TZNAME:CEST
DTSTART:20240331T010000
END:DAYLIGHT
BEGIN:STANDARD
TZOFFSETFROM:+0200
TZOFFSETTO:+0100
TZNAME:CET
DTSTART:20241027T010000
END:STANDARD
END:VTIMEZONE
BEGIN:VEVENT
DTSTART;TZID=Europe/Warsaw:20240302T110000
DTEND;TZID=Europe/Warsaw:20240302T130000
DTSTAMP:20260421T162244
CREATED:20240130T114905Z
LAST-MODIFIED:20240315T115904Z
UID:44845-1709377200-1709384400@osiedlemlodych.pl
SUMMARY:WARSZTATY RODZINNE: "Marmurkowanie papieru"
DESCRIPTION:Zapraszamy na kolejne rodzinne warsztaty w Orlim Gnieździe\, podczas których zamienimy się w prawdziwych artystów! \nTym razem zajmiemy się marmurkowaniem papieru\, techniką polegającą na tworzeniu malowniczych abstrakcji\, które następnie przełożymy na papier! \nNa spotkanie zapraszamy małych i dużych 🙂 Będzie pięknie\, brudno\, wesoło i rodzinnie 🙂 \nDo zobaczenia! \n  \nKoszt udziału w warsztatach wynosi 20 zł/ osoba. \n\n\n\n\nRezerwacji można dokonać telefonicznie (tel. 61 877 78 42) lub mailowo (dkorlegniazdo@gmail.com). \n\n\n\n\n 
URL:https://osiedlemlodych.pl/wydarzenia/rodzinne-warsztaty-marmurkowanie-papieru/
LOCATION:Dom Kultury „Orle Gniazdo”\, os. Lecha 43\, Poznań\, Wielkopolskie\, 61-294\, Polska
CATEGORIES:Orle Gniazdo
ATTACH;FMTTYPE=image/png:https://osiedlemlodych.pl/wp-content/uploads/2024/01/sensoplastyka-male.png
END:VEVENT
END:VCALENDAR