BEGIN:VCALENDAR
VERSION:2.0
PRODID:-//Spółdzielnia Mieszkaniowa Osiedle Młodych - ECPv5.16.4//NONSGML v1.0//EN
CALSCALE:GREGORIAN
METHOD:PUBLISH
X-WR-CALNAME:Spółdzielnia Mieszkaniowa Osiedle Młodych
X-ORIGINAL-URL:https://osiedlemlodych.pl
X-WR-CALDESC:Wydarzenia dla Spółdzielnia Mieszkaniowa Osiedle Młodych
BEGIN:VTIMEZONE
TZID:Europe/Warsaw
BEGIN:DAYLIGHT
TZOFFSETFROM:+0100
TZOFFSETTO:+0200
TZNAME:CEST
DTSTART:20220327T010000
END:DAYLIGHT
BEGIN:STANDARD
TZOFFSETFROM:+0200
TZOFFSETTO:+0100
TZNAME:CET
DTSTART:20221030T010000
END:STANDARD
END:VTIMEZONE
BEGIN:VEVENT
DTSTART;TZID=Europe/Warsaw:20220405T163000
DTEND;TZID=Europe/Warsaw:20220405T180000
DTSTAMP:20260421T164043
CREATED:20220311T131841Z
LAST-MODIFIED:20220311T131841Z
UID:33671-1649176200-1649181600@osiedlemlodych.pl
SUMMARY:Rodzinne warsztaty ozdób Wielkanocnych
DESCRIPTION:Jak co roku zapraszamy dzieci wraz z rodzicami do stworzenia wspólnych ozdób świątecznych! Zapewniamy wszelkie materiały oraz ciepłą\, rodzinną atmosferę!
URL:https://osiedlemlodych.pl/wydarzenia/rodzinne-warsztaty-ozdob-wielkanocnych-3/
LOCATION:Dom Kultury „Jagiellonka”
CATEGORIES:Jagiellonka
ATTACH;FMTTYPE=image/jpeg:https://osiedlemlodych.pl/wp-content/uploads/2022/03/foto.jpg
END:VEVENT
END:VCALENDAR