BEGIN:VCALENDAR
VERSION:2.0
PRODID:-//Spółdzielnia Mieszkaniowa Osiedle Młodych - ECPv5.16.4//NONSGML v1.0//EN
CALSCALE:GREGORIAN
METHOD:PUBLISH
X-WR-CALNAME:Spółdzielnia Mieszkaniowa Osiedle Młodych
X-ORIGINAL-URL:https://osiedlemlodych.pl
X-WR-CALDESC:Wydarzenia dla Spółdzielnia Mieszkaniowa Osiedle Młodych
BEGIN:VTIMEZONE
TZID:Europe/Warsaw
BEGIN:DAYLIGHT
TZOFFSETFROM:+0100
TZOFFSETTO:+0200
TZNAME:CEST
DTSTART:20230326T010000
END:DAYLIGHT
BEGIN:STANDARD
TZOFFSETFROM:+0200
TZOFFSETTO:+0100
TZNAME:CET
DTSTART:20231029T010000
END:STANDARD
END:VTIMEZONE
BEGIN:VEVENT
DTSTART;TZID=Europe/Warsaw:20230401T110000
DTEND;TZID=Europe/Warsaw:20230401T130000
DTSTAMP:20260423T030454
CREATED:20230308T125833Z
LAST-MODIFIED:20230308T145017Z
UID:39268-1680346800-1680354000@osiedlemlodych.pl
SUMMARY:Rodzinne warsztaty wielkanocne
DESCRIPTION:Wielkimi krokami zbliżają się Święta Wielkanocne!!! A zatem czas pomyśleć o upominkach i świątecznym wystroju domu 😉 \nPodczas 2 godzin trwania warsztatów\, uczestnicy będą mogli własnoręcznie stworzyć niepowtarzalne wielkanocne ozdoby. \n  \nKoszt udziału w warsztatach wynosi 100 zł za rodzinę (od 2 do 4 osób). \n  \nRezerwacji można dokonać telefonicznie (tel. 61 877 78 42) lub mailowo (dkorlegniazdo@gmail.com).
URL:https://osiedlemlodych.pl/wydarzenia/rodzinne-warsztaty-wielkanocne/
LOCATION:Dom Kultury „Orle Gniazdo”\, os. Lecha 43\, Poznań\, Wielkopolskie\, 61-294\, Polska
CATEGORIES:Orle Gniazdo
ATTACH;FMTTYPE=image/jpeg:https://osiedlemlodych.pl/wp-content/uploads/2023/03/stylowa-kompozycja-z-wiencem-wielkanocnym-i-pisankami-169016-3121.jpg
END:VEVENT
END:VCALENDAR