BEGIN:VCALENDAR
VERSION:2.0
PRODID:-//Spółdzielnia Mieszkaniowa Osiedle Młodych - ECPv5.16.4//NONSGML v1.0//EN
CALSCALE:GREGORIAN
METHOD:PUBLISH
X-WR-CALNAME:Spółdzielnia Mieszkaniowa Osiedle Młodych
X-ORIGINAL-URL:https://osiedlemlodych.pl
X-WR-CALDESC:Wydarzenia dla Spółdzielnia Mieszkaniowa Osiedle Młodych
BEGIN:VTIMEZONE
TZID:Europe/Warsaw
BEGIN:DAYLIGHT
TZOFFSETFROM:+0100
TZOFFSETTO:+0200
TZNAME:CEST
DTSTART:20250330T010000
END:DAYLIGHT
BEGIN:STANDARD
TZOFFSETFROM:+0200
TZOFFSETTO:+0100
TZNAME:CET
DTSTART:20251026T010000
END:STANDARD
END:VTIMEZONE
BEGIN:VEVENT
DTSTART;TZID=Europe/Warsaw:20251115T100000
DTEND;TZID=Europe/Warsaw:20251115T140000
DTSTAMP:20260422T054503
CREATED:20251015T160045Z
LAST-MODIFIED:20251015T163630Z
UID:53405-1763200800-1763215200@osiedlemlodych.pl
SUMMARY:Rodzinny Festiwal Gier Planszowych
DESCRIPTION:Zapraszamy na bezpłatne spotkanie z grami planszowymi dla rodzin z dziećmi i młodzieży: \n\nstrefa gier rodzinnych (5+)\nstrefa gier dla młodszych graczy (3+)\nstrefa gier XXXL\nstrefa konstrukcyjna (Cardblocks)\nplanszówkowe wyzwanie dla dzieci (6+)\nturniej w grę Wirus\nturniej dla młodzieży w grę Karak 2 z nagrodami.\n\nInformacje: e-mail: kraina_nadziei@wp.pl\, tel. 888997120. \nDzieci uczestniczą w festiwalu WYŁĄCZNIE pod opieką rodziców lub opiekunów prawnych. \nRegulamin wydarzenia: https://tiny.pl/4v58qfhsRegulamin turnieju w grę Wirus: (w trakcie opracowywania)
URL:https://osiedlemlodych.pl/wydarzenia/rodzinny-festiwal-gier-planszowych-2/
LOCATION:Dom Kultury „Orle Gniazdo”\, os. Lecha 43\, Poznań\, Wielkopolskie\, 61-294\, Polska
CATEGORIES:Orle Gniazdo
ATTACH;FMTTYPE=image/jpeg:https://osiedlemlodych.pl/wp-content/uploads/2025/10/plakaty-wydarzenia-e1760543930142.jpg
END:VEVENT
END:VCALENDAR