BEGIN:VCALENDAR
VERSION:2.0
PRODID:-//Spółdzielnia Mieszkaniowa Osiedle Młodych - ECPv5.16.4//NONSGML v1.0//EN
CALSCALE:GREGORIAN
METHOD:PUBLISH
X-WR-CALNAME:Spółdzielnia Mieszkaniowa Osiedle Młodych
X-ORIGINAL-URL:https://osiedlemlodych.pl
X-WR-CALDESC:Wydarzenia dla Spółdzielnia Mieszkaniowa Osiedle Młodych
BEGIN:VTIMEZONE
TZID:Europe/Warsaw
BEGIN:DAYLIGHT
TZOFFSETFROM:+0100
TZOFFSETTO:+0200
TZNAME:CEST
DTSTART:20220327T010000
END:DAYLIGHT
BEGIN:STANDARD
TZOFFSETFROM:+0200
TZOFFSETTO:+0100
TZNAME:CET
DTSTART:20221030T010000
END:STANDARD
END:VTIMEZONE
BEGIN:VEVENT
DTSTART;TZID=Europe/Warsaw:20220321T180000
DTEND;TZID=Europe/Warsaw:20220321T190000
DTSTAMP:20260422T073546
CREATED:20220303T200133Z
LAST-MODIFIED:20220304T150831Z
UID:33563-1647885600-1647889200@osiedlemlodych.pl
SUMMARY:Roślinne nadruki na płóciennych torbach -Rodzinne witanie wiosny
DESCRIPTION:Przywitajmy RAZEM WIOSNĘ !\nZapraszamy Dzieci z Opiekunami na rodzinne warsztaty\, podczas których na płóciennych torbach\, kreatywną techniką będziemy „nadrukowywać„ WIOSENNE KWIATY! \nJeśli macie ochotę\, przed warsztatami wybierzcie się na spacer i nazbierajcie wiosennych kwiatów i liści.\nPrzynieście je ze sobą na warsztaty. \nBarwy i zapachy wiosennych kwiatów pozwolą nam poczuć\, że rozpoczyna się nowa pora roku !\nWiosna rozbudza nadzieję i energie w naturze poczujmy ją również w sobie. \nWykonane torby Uczestnicy zabierają ze sobą do domu. \nZapisy i informacja pod nr. tel. 61 879 47 15 \nProwadzenie: Ewa Jańczak
URL:https://osiedlemlodych.pl/wydarzenia/roslinne-nadruki-na-plociennych-torbach-rodzinne-witanie-wiosny/
CATEGORIES:Klub Cybinka
ATTACH;FMTTYPE=image/png:https://osiedlemlodych.pl/wp-content/uploads/2022/03/torba.png
END:VEVENT
END:VCALENDAR