BEGIN:VCALENDAR
VERSION:2.0
PRODID:-//Spółdzielnia Mieszkaniowa Osiedle Młodych - ECPv5.16.4//NONSGML v1.0//EN
CALSCALE:GREGORIAN
METHOD:PUBLISH
X-WR-CALNAME:Spółdzielnia Mieszkaniowa Osiedle Młodych
X-ORIGINAL-URL:https://osiedlemlodych.pl
X-WR-CALDESC:Wydarzenia dla Spółdzielnia Mieszkaniowa Osiedle Młodych
BEGIN:VTIMEZONE
TZID:Europe/Warsaw
BEGIN:DAYLIGHT
TZOFFSETFROM:+0100
TZOFFSETTO:+0200
TZNAME:CEST
DTSTART:20240331T010000
END:DAYLIGHT
BEGIN:STANDARD
TZOFFSETFROM:+0200
TZOFFSETTO:+0100
TZNAME:CET
DTSTART:20241027T010000
END:STANDARD
END:VTIMEZONE
BEGIN:VEVENT
DTSTART;TZID=Europe/Warsaw:20240529T120000
DTEND;TZID=Europe/Warsaw:20240529T160000
DTSTAMP:20260422T160528
CREATED:20240523T082725Z
LAST-MODIFIED:20240523T084033Z
UID:46674-1716984000-1716998400@osiedlemlodych.pl
SUMMARY:RumbaFIT z Kolumbijczykiem!
DESCRIPTION:RumbaFit to popularne w Kolumbii zajęcia grupowe łączące różne rytmy takie jak:– salsa– merengue– reggaeton– bachata– cha-cha– champeta itp.\n\nBędzie to intensywne doświadczenie\, dzięki któremu poczujesz się jak na wspaniałej tanecznej imprezie\, jednocześnie dbając o formę.\nCzyli przyjemne z pożytecznym!\nZajęcia poprowadzi Ronny Katime Vanegas – nauczyciel tańców latynoskich i trener personalny z ponad dziesięcioletnim doświadczeniem. Przyleciał do nas z Kolumbii\, gdzie zdobywał doświadczenie na najlepszych salach treningowych.\n\nKonkrety:środa 29.05.2024dwie grupy do wyboru:I 12:00-13:00II 15:00-16:00Miejsce: Klub „Cybinka”\, ul. Warszawska 93/95 PoznańKoszt: 40 złAdresaci: dla każdegoZapisy i informacje: Agnieszka 695 684 561\n\nZastrzegamy możliwość odwołania grupy\, jeżeli nie uzbiera się na nią minimalna wymagana liczba uczestników.\n\nBardzo polecamy!
URL:https://osiedlemlodych.pl/wydarzenia/rumbafit/
LOCATION:Klub „Cybinka”\, ul. Warszawska 93/95\, Poznań\, Wielkopolska\, 61-031\, Poland
CATEGORIES:Klub Cybinka
ATTACH;FMTTYPE=image/jpeg:https://osiedlemlodych.pl/wp-content/uploads/2024/05/rumba-fit-1.jpg
ORGANIZER;CN="Klub%20%22Cybinka%22":MAILTO:cybinka@osiedlemlodych.pl
END:VEVENT
END:VCALENDAR